Workbook

Sheet Данные
B1: № | C1: Дата | D1: Время открытия | E1: Дата закрытия | F1: Время закрытия | G1: Инструмент | H1: Направление сделки | I1: Цена открытия | J1: Цена закрытия | K1: кол-во | L1: Комиссия | M1: Способ входа в позицию | N1: Способ выхода из позиции | O1: Оценка трейда | P1: Стратегия | Q1: Комментарий | R1: Изменение депозита | S1: Депозит | T1: Комиссия всего | U1: Сумма открытия | V1: Сумма закрытия | W1: P\L Gross | X1: P\L Net | Y1: Начальная сумма (Gross) | Z1: Начальная сумма (Net) | AA1: Конечная сумма (Gross) | AB1: Конечная сумма (Net) | AC1: День недели | AD1: Часы | AE1: Биржа | AF1: Сектор | AG1: Индустрия | AH1: Время в сделке (сек) | AI1: Интрадей | AJ1: Среднесрок | AK1: Диапазон входа | AL1: Net плюс | AM1: Net минус | AN1: Год | AO1: Месяц | AP1: Неделя | AQ1: Депозит по дням | AR1: Пополнение депозита | AS1: Общая доходность | AT1: Доходность в сделке | AU1: Открытие дня | AV1: Закрытие дня | AW1: Диапазон цены | AX1: МаксМинДней
B2: 1 | C2: 40147 | D2: 0.40130787 | E2: 40147 | F2: 0.40730324 | G2: IGT | H2: S | I2: 19.99 | J2: 19.87 | K2: 100 | L2: 2.27 | M2: продолжение движения | N2: трейлинг стоп | O2: 0 | P2: Стратегия №2 | R2: 25000 | S2: =R2+X2 -> 25009.73 | T2: =L2 -> 2.27 | U2: =I2*ABS(K2) -> 1999 | V2: =J2*ABS(K2) -> 1987 | W2: =IF(H2="s",U2-V2,V2-U2) -> 12 | X2: =W2-T2 -> 9.73 | Y2: 0 | Z2: 0 | AA2: =Y2+W2 -> 12 | AB2: =Z2+X2 -> 9.73 | AC2: =IF(G2<>"",VLOOKUP(WEEKDAY(C2,2),Служебный!K$4:L$10,2),"") -> пн | AD2: =IF(G2 <> "",TEXT((HOUR(D2)),0)&"-"&TEXT(HOUR(D2)+1,0),"") -> 9-10 | AE2: =VLOOKUP(G:G,Служебный!B:G,6,) -> NYSE | AF2: =VLOOKUP(G:G,Служебный!B:G,3,FALSE) -> Technology | AG2: =VLOOKUP(G:G,Служебный!B:G,4,FALSE) -> Diversified Computer Systems | AH2: =ROUND(((E2+F2)-(C2+D2))*86400,0) -> 518 | AI2: =IF(FLOOR((AH2/60),15)>400,"Среднесрок",FLOOR((AH2/60),15)) -> 0 | AJ2: =IFERROR(IF(FLOOR((AH2/86400),1)=0,"интрадей",(FLOOR((AH2/86400),1))-(FLOOR((AH2/86400),1))-NETWORKDAYS(E2,C2)),IF(FLOOR((AH2/86400),1)=0,"интрадей",(FLOOR((AH2/86400),1)))) -> интрадей | AK2: =IF(D2<Служебный!P$3,"Раньше открытия",IF(D2>Служебный!P$6,"Позже закрытия",IF(D2<Служебный!P$4,Служебный!N$4,IF((D2>Служебный!P$5),Служебный!N$6,Служебный!N$5)))) -> 9:30 - 11:00 | AL2: =IF(X2>0,X2,0) -> 9.73 | AM2: =IF(X2<0,X2,0) -> 0 | AN2: =IF(G2<>"",YEAR(C2),"") -> 2009 | AO2: =IF(G2<>"",(IF(TEXT(C2,"MMMM") = "MMMM",TEXT(C2,"ММММ"),TEXT(C2,"MMMM"))),"") -> Ноябрь | AP2: =IF(G2<>"",CEILING((C2-DATE(YEAR(C2),1,1)+WEEKDAY(DATE(YEAR(C2),1,1),2))/7,1),"") -> 49 | AQ2: =IF(AV2<>0,S2,0) -> 0 | AR2: =R2 -> 25000 | AS2: =IFERROR(100*(S2-AR2)/AR2,"Заполните депозит") -> 0.03892 | AT2: =IFERROR(100*(S2-R2)/R2,"Заполните депозит") -> 0.03892 | AU2: =IF(C2<>C1,Z2,0) -> 0 | AV2: =IF(C2<>C3,AB2,0) -> 0 | AW2: =CEILING(I2,5) -> 20 | AX2: 0
B3: 2 | C3: 40147 | D3: 0.4022338 | E3: =C3 -> 40147 | F3: 0.41366898 | G3: IGT | H3: L | I3: 22.02 | J3: 22.14 | K3: 100 | L3: 2.15 | M3: Прочее | N3: стоп | O3: 0 | P3: Стратегия №2 | S3: =S2+R3+X3 -> 25019.58 | T3: =L3 -> 2.15 | U3: =I3*ABS(K3) -> 2202 | V3: =J3*ABS(K3) -> 2214 | W3: =IF(H3="s",U3-V3,V3-U3) -> 12 | X3: =W3-T3 -> 9.85 | Y3: =Y2+W2 -> 12 | Z3: =Z2+X2 -> 9.73 | AA3: =Y3+W3 -> 24 | AB3: =Z3+X3 -> 19.58 | AC3: =IF(G3<>"",VLOOKUP(WEEKDAY(C3,2),Служебный!K$4:L$10,2),"") -> пн | AD3: =IF(G3 <> "",TEXT((HOUR(D3)),0)&"-"&TEXT(HOUR(D3)+1,0),"") -> 9-10 | AE3: =VLOOKUP(G:G,Служебный!B:G,6,) -> NYSE | AF3: =VLOOKUP(G:G,Служебный!B:G,3,FALSE) -> Technology | AG3: =VLOOKUP(G:G,Служебный!B:G,4,FALSE) -> Diversified Computer Systems | AH3: =ROUND(((E3+F3)-(C3+D3))*86400,0) -> 988 | AI3: =IF(FLOOR((AH3/60),15)>400,"Среднесрок",FLOOR((AH3/60),15)) -> 15 | AJ3: =IFERROR(IF(FLOOR((AH3/86400),1)=0,"интрадей",(FLOOR((AH3/86400),1))-(FLOOR((AH3/86400),1))-NETWORKDAYS(E3,C3)),IF(FLOOR((AH3/86400),1)=0,"интрадей",(FLOOR((AH3/86400),1)))) -> интрадей | AK3: =IF(D3<Служебный!P$3,"Раньше открытия",IF(D3>Служебный!P$6,"Позже закрытия",IF(D3<Служебный!P$4,Служебный!N$4,IF((D3>Служебный!P$5),Служебный!N$6,Служебный!N$5)))) -> 9:30 - 11:00 | AL3: =IF(X3>0,X3,0) -> 9.85 | AM3: =IF(X3<0,X3,0) -> 0 | AN3: =IF(G3<>"",YEAR(C3),"") -> 2009 | AO3: =IF(G3<>"",(IF(TEXT(C3,"MMMM") = "MMMM",TEXT(C3,"ММММ"),TEXT(C3,"MMMM"))),"") -> Ноябрь | AP3: =IF(G3<>"",CEILING((C3-DATE(YEAR(C3),1,1)+WEEKDAY(DATE(YEAR(C3),1,1),2))/7,1),"") -> 49 | AQ3: =IF(AV3<>0,S3,0) -> 0 | AR3: =AR2+R3 -> 25000 | AS3: =IFERROR(100*(S3-AR3)/AR3,"Заполните депозит") -> 0.07832 | AT3: =IFERROR(100*(S3-S2-R3)/(S2+R3),"Заполните депозит") -> 0.039384671 | AU3: =IF(C3<>C2,Z3,0) -> 0 | AV3: =IF(C3<>C4,AB3,0) -> 0 | AW3: =CEILING(I3,5) -> 25 | AX3: =IF(AV3=0,AX2,IF(X3<0,IF(AX2<0,AX2-1,-1),IF(AX2>0,AX2+1,1))) -> 0
B4: 3 | C4: 40147 | D4: 0.49365741 | E4: =C4 -> 40147 | F4: 0.60694444 | G4: IGT | H4: S | I4: 14.49 | J4: 14.6 | K4: 100 | L4: 2.65 | M4: пробой уровня | N4: цель | O4: -2 | P4: Черепахи | S4: =S3+R4+X4 -> 25005.93 | T4: =L4 -> 2.65 | U4: =I4*ABS(K4) -> 1449 | V4: =J4*ABS(K4) -> 1460 | W4: =IF(H4="s",U4-V4,V4-U4) -> -11 | X4: =W4-T4 -> -13.65 | Y4: =Y3+W3 -> 24 | Z4: =Z3+X3 -> 19.58 | AA4: =Y4+W4 -> 13 | AB4: =Z4+X4 -> 5.93 | AC4: =IF(G4<>"",VLOOKUP(WEEKDAY(C4,2),Служебный!K$4:L$10,2),"") -> пн | AD4: =IF(G4 <> "",TEXT((HOUR(D4)),0)&"-"&TEXT(HOUR(D4)+1,0),"") -> 11-12 | AE4: =VLOOKUP(G:G,Служебный!B:G,6,) -> NYSE | AF4: =VLOOKUP(G:G,Служебный!B:G,3,FALSE) -> Technology | AG4: =VLOOKUP(G:G,Служебный!B:G,4,FALSE) -> Diversified Computer Systems | AH4: =ROUND(((E4+F4)-(C4+D4))*86400,0) -> 9788 | AI4: =IF(FLOOR((AH4/60),15)>400,"Среднесрок",FLOOR((AH4/60),15)) -> 150 | AJ4: =IFERROR(IF(FLOOR((AH4/86400),1)=0,"интрадей",(FLOOR((AH4/86400),1))-(FLOOR((AH4/86400),1))-NETWORKDAYS(E4,C4)),IF(FLOOR((AH4/86400),1)=0,"интрадей",(FLOOR((AH4/86400),1)))) -> интрадей | AK4: =IF(D4<Служебный!P$3,"Раньше открытия",IF(D4>Служебный!P$6,"Позже закрытия",IF(D4<Служебный!P$4,Служебный!N$4,IF((D4>Служебный!P$5),Служебный!N$6,Служебный!N$5)))) -> 11:00 - 14:30 | AL4: =IF(X4>0,X4,0) -> 0 | AM4: =IF(X4<0,X4,0) -> -13.65 | AN4: =IF(G4<>"",YEAR(C4),"") -> 2009 | AO4: =IF(G4<>"",(IF(TEXT(C4,"MMMM") = "MMMM",TEXT(C4,"ММММ"),TEXT(C4,"MMMM"))),"") -> Ноябрь | AP4: =IF(G4<>"",CEILING((C4-DATE(YEAR(C4),1,1)+WEEKDAY(DATE(YEAR(C4),1,1),2))/7,1),"") -> 49 | AQ4: =IF(AV4<>0,S4,0) -> 0 | AR4: =AR3+R4 -> 25000 | AS4: =IFERROR(100*(S4-AR4)/AR4,"Заполните депозит") -> 0.02372 | AT4: =IFERROR(100*(S4-S3-R4)/(S3+R4),"Заполните депозит") -> -0.054557271 | AU4: =IF(C4<>C3,Z4,0) -> 0 | AV4: =IF(C4<>C5,AB4,0) -> 0 | AW4: =CEILING(I4,5) -> 15 | AX4: =IF(AV4=0,AX3,IF(X4<0,IF(AX3<0,AX3-1,-1),IF(AX3>0,AX3+1,1))) -> 0
B5: 4 | C5: 40147 | D5: 0.50703704 | E5: =C5 -> 40147 | F5: 0.51103009 | G5: AMX | H5: L | I5: 47.96 | J5: 47.99 | K5: 100 | L5: 2.62 | M5: Прочее | N5: новости | O5: 0 | P5: Стратегия №2 | S5: =S4+R5+X5 -> 25006.31 | T5: =L5 -> 2.62 | U5: =I5*ABS(K5) -> 4796 | V5: =J5*ABS(K5) -> 4799 | W5: =IF(H5="s",U5-V5,V5-U5) -> 3 | X5: =W5-T5 -> 0.38 | Y5: =Y4+W4 -> 13 | Z5: =Z4+X4 -> 5.93 | AA5: =Y5+W5 -> 16 | AB5: =Z5+X5 -> 6.31 | AC5: =IF(G5<>"",VLOOKUP(WEEKDAY(C5,2),Служебный!K$4:L$10,2),"") -> пн | AD5: =IF(G5 <> "",TEXT((HOUR(D5)),0)&"-"&TEXT(HOUR(D5)+1,0),"") -> 12-13 | AE5: =VLOOKUP(G:G,Служебный!B:G,6,) -> NYSE | AF5: =VLOOKUP(G:G,Служебный!B:G,3,FALSE) -> Technology | AG5: =VLOOKUP(G:G,Служебный!B:G,4,FALSE) -> Wireless Communications | AH5: =ROUND(((E5+F5)-(C5+D5))*86400,0) -> 345 | AI5: =IF(FLOOR((AH5/60),15)>400,"Среднесрок",FLOOR((AH5/60),15)) -> 0 | AJ5: =IFERROR(IF(FLOOR((AH5/86400),1)=0,"интрадей",(FLOOR((AH5/86400),1))-(FLOOR((AH5/86400),1))-NETWORKDAYS(E5,C5)),IF(FLOOR((AH5/86400),1)=0,"интрадей",(FLOOR((AH5/86400),1)))) -> интрадей | AK5: =IF(D5<Служебный!P$3,"Раньше открытия",IF(D5>Служебный!P$6,"Позже закрытия",IF(D5<Служебный!P$4,Служебный!N$4,IF((D5>Служебный!P$5),Служебный!N$6,Служебный!N$5)))) -> 11:00 - 14:30 | AL5: =IF(X5>0,X5,0) -> 0.38 | AM5: =IF(X5<0,X5,0) -> 0 | AN5: =IF(G5<>"",YEAR(C5),"") -> 2009 | AO5: =IF(G5<>"",(IF(TEXT(C5,"MMMM") = "MMMM",TEXT(C5,"ММММ"),TEXT(C5,"MMMM"))),"") -> Ноябрь | AP5: =IF(G5<>"",CEILING((C5-DATE(YEAR(C5),1,1)+WEEKDAY(DATE(YEAR(C5),1,1),2))/7,1),"") -> 49 | AQ5: =IF(AV5<>0,S5,0) -> 0 | AR5: =AR4+R5 -> 25000 | AS5: =IFERROR(100*(S5-AR5)/AR5,"Заполните депозит") -> 0.02524 | AT5: =IFERROR(100*(S5-S4-R5)/(S4+R5),"Заполните депозит") -> 0.0015196395 | AU5: =IF(C5<>C4,Z5,0) -> 0 | AV5: =IF(C5<>C6,AB5,0) -> 0 | AW5: =CEILING(I5,5) -> 50 | AX5: =IF(AV5=0,AX4,IF(X5<0,IF(AX4<0,AX4-1,-1),IF(AX4>0,AX4+1,1))) -> 0
B6: 5 | C6: 40147 | D6: 0.51329861 | E6: =C6 -> 40147 | F6: 0.60273148 | G6: GNK | H6: S | I6: 23.06 | J6: 23.02 | K6: 100 | L6: 2.15 | M6: пробой уровня | N6: конец дня | O6: 1 | P6: Черепахи | S6: =S5+R6+X6 -> 25008.16 | T6: =L6 -> 2.15 | U6: =I6*ABS(K6) -> 2306 | V6: =J6*ABS(K6) -> 2302 | W6: =IF(H6="s",U6-V6,V6-U6) -> 4 | X6: =W6-T6 -> 1.85 | Y6: =Y5+W5 -> 16 | Z6: =Z5+X5 -> 6.31 | AA6: =Y6+W6 -> 20 | AB6: =Z6+X6 -> 8.16 | AC6: =IF(G6<>"",VLOOKUP(WEEKDAY(C6,2),Служебный!K$4:L$10,2),"") -> пн | AD6: =IF(G6 <> "",TEXT((HOUR(D6)),0)&"-"&TEXT(HOUR(D6)+1,0),"") -> 12-13 | AE6: =VLOOKUP(G:G,Служебный!B:G,6,) -> NYSE | AF6: =VLOOKUP(G:G,Служебный!B:G,3,FALSE) -> Services | AG6: =VLOOKUP(G:G,Служебный!B:G,4,FALSE) -> Shipping | AH6: =ROUND(((E6+F6)-(C6+D6))*86400,0) -> 7727 | AI6: =IF(FLOOR((AH6/60),15)>400,"Среднесрок",FLOOR((AH6/60),15)) -> 120 | AJ6: =IFERROR(IF(FLOOR((AH6/86400),1)=0,"интрадей",(FLOOR((AH6/86400),1))-(FLOOR((AH6/86400),1))-NETWORKDAYS(E6,C6)),IF(FLOOR((AH6/86400),1)=0,"интрадей",(FLOOR((AH6/86400),1)))) -> интрадей | AK6: =IF(D6<Служебный!P$3,"Раньше открытия",IF(D6>Служебный!P$6,"Позже закрытия",IF(D6<Служебный!P$4,Служебный!N$4,IF((D6>Служебный!P$5),Служебный!N$6,Служебный!N$5)))) -> 11:00 - 14:30 | AL6: =IF(X6>0,X6,0) -> 1.85 | AM6: =IF(X6<0,X6,0) -> 0 | AN6: =IF(G6<>"",YEAR(C6),"") -> 2009 | AO6: =IF(G6<>"",(IF(TEXT(C6,"MMMM") = "MMMM",TEXT(C6,"ММММ"),TEXT(C6,"MMMM"))),"") -> Ноябрь | AP6: =IF(G6<>"",CEILING((C6-DATE(YEAR(C6),1,1)+WEEKDAY(DATE(YEAR(C6),1,1),2))/7,1),"") -> 49 | AQ6: =IF(AV6<>0,S6,0) -> 0 | AR6: =AR5+R6 -> 25000 | AS6: =IFERROR(100*(S6-AR6)/AR6,"Заполните депозит") -> 0.03264 | AT6: =IFERROR(100*(S6-S5-R6)/(S5+R6),"Заполните депозит") -> 0.0073981327 | AU6: =IF(C6<>C5,Z6,0) -> 0 | AV6: =IF(C6<>C7,AB6,0) -> 0 | AW6: =CEILING(I6,5) -> 25 | AX6: =IF(AV6=0,AX5,IF(VLOOKUP(C5,Сводный!I:L,2,FALSE)<0,IF(AX5<0,AX5-1,-1),IF(AX5>0,AX5+1,1))) -> 0
B7: 6 | C7: 40147 | D7: 0.51846065 | E7: =C7 -> 40147 | F7: 0.5643287 | G7: EPD | H7: L | I7: 29.81 | J7: 29.84 | K7: 100 | L7: 2.17 | M7: отбой от уровня | N7: конец дня | O7: 1 | P7: Разворотная | S7: =S6+R7+X7 -> 25008.99 | T7: =L7 -> 2.17 | U7: =I7*ABS(K7) -> 2981 | V7: =J7*ABS(K7) -> 2984 | W7: =IF(H7="s",U7-V7,V7-U7) -> 3 | X7: =W7-T7 -> 0.83 | Y7: =Y6+W6 -> 20 | Z7: =Z6+X6 -> 8.16 | AA7: =Y7+W7 -> 23 | AB7: =Z7+X7 -> 8.99 | AC7: =IF(G7<>"",VLOOKUP(WEEKDAY(C7,2),Служебный!K$4:L$10,2),"") -> пн | AD7: =IF(G7 <> "",TEXT((HOUR(D7)),0)&"-"&TEXT(HOUR(D7)+1,0),"") -> 12-13 | AE7: =VLOOKUP(G:G,Служебный!B:G,6,) -> NYSE | AF7: =VLOOKUP(G:G,Служебный!B:G,3,FALSE) -> Basic Materials | AG7: =VLOOKUP(G:G,Служебный!B:G,4,FALSE) -> Independent Oil & Gas | AH7: =ROUND(((E7+F7)-(C7+D7))*86400,0) -> 3963 | AI7: =IF(FLOOR((AH7/60),15)>400,"Среднесрок",FLOOR((AH7/60),15)) -> 60 | AJ7: =IFERROR(IF(FLOOR((AH7/86400),1)=0,"интрадей",(FLOOR((AH7/86400),1))-(FLOOR((AH7/86400),1))-NETWORKDAYS(E7,C7)),IF(FLOOR((AH7/86400),1)=0,"интрадей",(FLOOR((AH7/86400),1)))) -> интрадей | AK7: =IF(D7<Служебный!P$3,"Раньше открытия",IF(D7>Служебный!P$6,"Позже закрытия",IF(D7<Служебный!P$4,Служебный!N$4,IF((D7>Служебный!P$5),Служебный!N$6,Служебный!N$5)))) -> 11:00 - 14:30 | AL7: =IF(X7>0,X7,0) -> 0.83 | AM7: =IF(X7<0,X7,0) -> 0 | AN7: =IF(G7<>"",YEAR(C7),"") -> 2009 | AO7: =IF(G7<>"",(IF(TEXT(C7,"MMMM") = "MMMM",TEXT(C7,"ММММ"),TEXT(C7,"MMMM"))),"") -> Ноябрь | AP7: =IF(G7<>"",CEILING((C7-DATE(YEAR(C7),1,1)+WEEKDAY(DATE(YEAR(C7),1,1),2))/7,1),"") -> 49 | AQ7: =IF(AV7<>0,S7,0) -> 0 | AR7: =AR6+R7 -> 25000 | AS7: =IFERROR(100*(S7-AR7)/AR7,"Заполните депозит") -> 0.03596 | AT7: =IFERROR(100*(S7-S6-R7)/(S6+R7),"Заполните депозит") -> 0.0033189167 | AU7: =IF(C7<>C6,Z7,0) -> 0 | AV7: =IF(C7<>C8,AB7,0) -> 0 | AW7: =CEILING(I7,5) -> 30 | AX7: =IF(AV7=0,AX6,IF(VLOOKUP(C6,Сводный!I:L,2,FALSE)<0,IF(AX6<0,AX6-1,-1),IF(AX6>0,AX6+1,1))) -> 0
B8: 7 | C8: 40147 | D8: 0.53712963 | E8: =C8 -> 40147 | F8: 0.61208333 | G8: TSN | H8: S | I8: 11.97 | J8: 11.97 | K8: 100 | L8: 2.41 | M8: пробой уровня | N8: конец дня | O8: 0 | P8: Черепахи | S8: =S7+R8+X8 -> 25006.58 | T8: =L8 -> 2.41 | U8: =I8*ABS(K8) -> 1197 | V8: =J8*ABS(K8) -> 1197 | W8: =IF(H8="s",U8-V8,V8-U8) -> 0 | X8: =W8-T8 -> -2.41 | Y8: =Y7+W7 -> 23 | Z8: =Z7+X7 -> 8.99 | AA8: =Y8+W8 -> 23 | AB8: =Z8+X8 -> 6.58 | AC8: =IF(G8<>"",VLOOKUP(WEEKDAY(C8,2),Служебный!K$4:L$10,2),"") -> пн | AD8: =IF(G8 <> "",TEXT((HOUR(D8)),0)&"-"&TEXT(HOUR(D8)+1,0),"") -> 12-13 | AE8: =VLOOKUP(G:G,Служебный!B:G,6,) -> NYSE | AF8: =VLOOKUP(G:G,Служебный!B:G,3,FALSE) -> Consumer Goods | AG8: =VLOOKUP(G:G,Служебный!B:G,4,FALSE) -> Meat Products | AH8: =ROUND(((E8+F8)-(C8+D8))*86400,0) -> 6476 | AI8: =IF(FLOOR((AH8/60),15)>400,"Среднесрок",FLOOR((AH8/60),15)) -> 105 | AJ8: =IFERROR(IF(FLOOR((AH8/86400),1)=0,"интрадей",(FLOOR((AH8/86400),1))-(FLOOR((AH8/86400),1))-NETWORKDAYS(E8,C8)),IF(FLOOR((AH8/86400),1)=0,"интрадей",(FLOOR((AH8/86400),1)))) -> интрадей | AK8: =IF(D8<Служебный!P$3,"Раньше открытия",IF(D8>Служебный!P$6,"Позже закрытия",IF(D8<Служебный!P$4,Служебный!N$4,IF((D8>Служебный!P$5),Служебный!N$6,Служебный!N$5)))) -> 11:00 - 14:30 | AL8: =IF(X8>0,X8,0) -> 0 | AM8: =IF(X8<0,X8,0) -> -2.41 | AN8: =IF(G8<>"",YEAR(C8),"") -> 2009 | AO8: =IF(G8<>"",(IF(TEXT(C8,"MMMM") = "MMMM",TEXT(C8,"ММММ"),TEXT(C8,"MMMM"))),"") -> Ноябрь | AP8: =IF(G8<>"",CEILING((C8-DATE(YEAR(C8),1,1)+WEEKDAY(DATE(YEAR(C8),1,1),2))/7,1),"") -> 49 | AQ8: =IF(AV8<>0,S8,0) -> 0 | AR8: =AR7+R8 -> 25000 | AS8: =IFERROR(100*(S8-AR8)/AR8,"Заполните депозит") -> 0.02632 | AT8: =IFERROR(100*(S8-S7-R8)/(S7+R8),"Заполните депозит") -> -0.0096365347 | AU8: =IF(C8<>C7,Z8,0) -> 0 | AV8: =IF(C8<>C9,AB8,0) -> 0 | AW8: =CEILING(I8,5) -> 15 | AX8: =IF(AV8=0,AX7,IF(VLOOKUP(C7,Сводный!I:L,2,FALSE)<0,IF(AX7<0,AX7-1,-1),IF(AX7>0,AX7+1,1))) -> 0
B9: 8 | C9: 40147 | D9: 0.53950231 | E9: =C9 -> 40147 | F9: 0.57391204 | G9: HOC | H9: S | I9: 24.97 | J9: 25.09 | K9: 100 | L9: 2.44 | M9: пробой уровня | N9: конец дня | O9: -2 | P9: Черепахи | S9: =S8+R9+X9 -> 24992.14 | T9: =L9 -> 2.44 | U9: =I9*ABS(K9) -> 2497 | V9: =J9*ABS(K9) -> 2509 | W9: =IF(H9="s",U9-V9,V9-U9) -> -12 | X9: =W9-T9 -> -14.44 | Y9: =Y8+W8 -> 23 | Z9: =Z8+X8 -> 6.58 | AA9: =Y9+W9 -> 11 | AB9: =Z9+X9 -> -7.86 | AC9: =IF(G9<>"",VLOOKUP(WEEKDAY(C9,2),Служебный!K$4:L$10,2),"") -> пн | AD9: =IF(G9 <> "",TEXT((HOUR(D9)),0)&"-"&TEXT(HOUR(D9)+1,0),"") -> 12-13 | AE9: =VLOOKUP(G:G,Служебный!B:G,6,) -> NYSE | AF9: =VLOOKUP(G:G,Служебный!B:G,3,FALSE) -> Basic Materials | AG9: =VLOOKUP(G:G,Служебный!B:G,4,FALSE) -> Oil & Gas Refining & Marketing | AH9: =ROUND(((E9+F9)-(C9+D9))*86400,0) -> 2973 | AI9: =IF(FLOOR((AH9/60),15)>400,"Среднесрок",FLOOR((AH9/60),15)) -> 45 | AJ9: =IFERROR(IF(FLOOR((AH9/86400),1)=0,"интрадей",(FLOOR((AH9/86400),1))-(FLOOR((AH9/86400),1))-NETWORKDAYS(E9,C9)),IF(FLOOR((AH9/86400),1)=0,"интрадей",(FLOOR((AH9/86400),1)))) -> интрадей | AK9: =IF(D9<Служебный!P$3,"Раньше открытия",IF(D9>Служебный!P$6,"Позже закрытия",IF(D9<Служебный!P$4,Служебный!N$4,IF((D9>Служебный!P$5),Служебный!N$6,Служебный!N$5)))) -> 11:00 - 14:30 | AL9: =IF(X9>0,X9,0) -> 0 | AM9: =IF(X9<0,X9,0) -> -14.44 | AN9: =IF(G9<>"",YEAR(C9),"") -> 2009 | AO9: =IF(G9<>"",(IF(TEXT(C9,"MMMM") = "MMMM",TEXT(C9,"ММММ"),TEXT(C9,"MMMM"))),"") -> Ноябрь | AP9: =IF(G9<>"",CEILING((C9-DATE(YEAR(C9),1,1)+WEEKDAY(DATE(YEAR(C9),1,1),2))/7,1),"") -> 49 | AQ9: =IF(AV9<>0,S9,0) -> 0 | AR9: =AR8+R9 -> 25000 | AS9: =IFERROR(100*(S9-AR9)/AR9,"Заполните депозит") -> -0.03144 | AT9: =IFERROR(100*(S9-S8-R9)/(S8+R9),"Заполните депозит") -> -0.057744802 | AU9: =IF(C9<>C8,Z9,0) -> 0 | AV9: =IF(C9<>C10,AB9,0) -> 0 | AW9: =CEILING(I9,5) -> 25 | AX9: =IF(AV9=0,AX8,IF(VLOOKUP(C8,Сводный!I:L,2,FALSE)<0,IF(AX8<0,AX8-1,-1),IF(AX8>0,AX8+1,1))) -> 0
B10: 9 | C10: 40147 | D10: 0.54105324 | E10: =C10 -> 40147 | F10: 0.59806713 | G10: IGT | H10: S | I10: 18.78 | J10: 18.73 | K10: 100 | L10: 2.42 | M10: продолжение движения | N10: конец дня | O10: 0 | P10: Стратегия №2 | S10: =S9+R10+X10 -> 24994.72 | T10: =L10 -> 2.42 | U10: =I10*ABS(K10) -> 1878 | V10: =J10*ABS(K10) -> 1873 | W10: =IF(H10="s",U10-V10,V10-U10) -> 5 | X10: =W10-T10 -> 2.58 | Y10: =Y9+W9 -> 11 | Z10: =Z9+X9 -> -7.86 | AA10: =Y10+W10 -> 16 | AB10: =Z10+X10 -> -5.28 | AC10: =IF(G10<>"",VLOOKUP(WEEKDAY(C10,2),Служебный!K$4:L$10,2),"") -> пн | AD10: =IF(G10 <> "",TEXT((HOUR(D10)),0)&"-"&TEXT(HOUR(D10)+1,0),"") -> 12-13 | AE10: =VLOOKUP(G:G,Служебный!B:G,6,) -> NYSE | AF10: =VLOOKUP(G:G,Служебный!B:G,3,FALSE) -> Technology | AG10: =VLOOKUP(G:G,Служебный!B:G,4,FALSE) -> Diversified Computer Systems | AH10: =ROUND(((E10+F10)-(C10+D10))*86400,0) -> 4926 | AI10: =IF(FLOOR((AH10/60),15)>400,"Среднесрок",FLOOR((AH10/60),15)) -> 75 | AJ10: =IFERROR(IF(FLOOR((AH10/86400),1)=0,"интрадей",(FLOOR((AH10/86400),1))-(FLOOR((AH10/86400),1))-NETWORKDAYS(E10,C10)),IF(FLOOR((AH10/86400),1)=0,"интрадей",(FLOOR((AH10/86400),1)))) -> интрадей | AK10: =IF(D10<Служебный!P$3,"Раньше открытия",IF(D10>Служебный!P$6,"Позже закрытия",IF(D10<Служебный!P$4,Служебный!N$4,IF((D10>Служебный!P$5),Служебный!N$6,Служебный!N$5)))) -> 11:00 - 14:30 | AL10: =IF(X10>0,X10,0) -> 2.58 | AM10: =IF(X10<0,X10,0) -> 0 | AN10: =IF(G10<>"",YEAR(C10),"") -> 2009 | AO10: =IF(G10<>"",(IF(TEXT(C10,"MMMM") = "MMMM",TEXT(C10,"ММММ"),TEXT(C10,"MMMM"))),"") -> Ноябрь | AP10: =IF(G10<>"",CEILING((C10-DATE(YEAR(C10),1,1)+WEEKDAY(DATE(YEAR(C10),1,1),2))/7,1),"") -> 49 | AQ10: =IF(AV10<>0,S10,0) -> 0 | AR10: =AR9+R10 -> 25000 | AS10: =IFERROR(100*(S10-AR10)/AR10,"Заполните депозит") -> -0.02112 | AT10: =IFERROR(100*(S10-S9-R10)/(S9+R10),"Заполните депозит") -> 0.010323246 | AU10: =IF(C10<>C9,Z10,0) -> 0 | AV10: =IF(C10<>C11,AB10,0) -> 0 | AW10: =CEILING(I10,5) -> 20 | AX10: =IF(AV10=0,AX9,IF(VLOOKUP(C9,Сводный!I:L,2,FALSE)<0,IF(AX9<0,AX9-1,-1),IF(AX9>0,AX9+1,1))) -> 0
B11: 10 | C11: 40147 | D11: 0.54635417 | E11: =C11 -> 40147 | F11: 0.59724537 | G11: AMX | H11: S | I11: 47.99 | J11: 48.24 | K11: 100 | L11: 2.22 | M11: отбой от уровня | N11: конец дня | O11: -2 | P11: Разворотная | S11: =S10+R11+X11 -> 24967.5 | T11: =L11 -> 2.22 | U11: =I11*ABS(K11) -> 4799 | V11: =J11*ABS(K11) -> 4824 | W11: =IF(H11="s",U11-V11,V11-U11) -> -25 | X11: =W11-T11 -> -27.22 | Y11: =Y10+W10 -> 16 | Z11: =Z10+X10 -> -5.28 | AA11: =Y11+W11 -> -9 | AB11: =Z11+X11 -> -32.5 | AC11: =IF(G11<>"",VLOOKUP(WEEKDAY(C11,2),Служебный!K$4:L$10,2),"") -> пн | AD11: =IF(G11 <> "",TEXT((HOUR(D11)),0)&"-"&TEXT(HOUR(D11)+1,0),"") -> 13-14 | AE11: =VLOOKUP(G:G,Служебный!B:G,6,) -> NYSE | AF11: =VLOOKUP(G:G,Служебный!B:G,3,FALSE) -> Technology | AG11: =VLOOKUP(G:G,Служебный!B:G,4,FALSE) -> Wireless Communications | AH11: =ROUND(((E11+F11)-(C11+D11))*86400,0) -> 4397 | AI11: =IF(FLOOR((AH11/60),15)>400,"Среднесрок",FLOOR((AH11/60),15)) -> 60 | AJ11: =IFERROR(IF(FLOOR((AH11/86400),1)=0,"интрадей",(FLOOR((AH11/86400),1))-(FLOOR((AH11/86400),1))-NETWORKDAYS(E11,C11)),IF(FLOOR((AH11/86400),1)=0,"интрадей",(FLOOR((AH11/86400),1)))) -> интрадей | AK11: =IF(D11<Служебный!P$3,"Раньше открытия",IF(D11>Служебный!P$6,"Позже закрытия",IF(D11<Служебный!P$4,Служебный!N$4,IF((D11>Служебный!P$5),Служебный!N$6,Служебный!N$5)))) -> 11:00 - 14:30 | AL11: =IF(X11>0,X11,0) -> 0 | AM11: =IF(X11<0,X11,0) -> -27.22 | AN11: =IF(G11<>"",YEAR(C11),"") -> 2009 | AO11: =IF(G11<>"",(IF(TEXT(C11,"MMMM") = "MMMM",TEXT(C11,"ММММ"),TEXT(C11,"MMMM"))),"") -> Ноябрь | AP11: =IF(G11<>"",CEILING((C11-DATE(YEAR(C11),1,1)+WEEKDAY(DATE(YEAR(C11),1,1),2))/7,1),"") -> 49 | AQ11: =IF(AV11<>0,S11,0) -> 0 | AR11: =AR10+R11 -> 25000 | AS11: =IFERROR(100*(S11-AR11)/AR11,"Заполните депозит") -> -0.13 | AT11: =IFERROR(100*(S11-S10-R11)/(S10+R11),"Заполните депозит") -> -0.108903 | AU11: =IF(C11<>C10,Z11,0) -> 0 | AV11: =IF(C11<>C12,AB11,0) -> 0 | AW11: =CEILING(I11,5) -> 50 | AX11: =IF(AV11=0,AX10,IF(VLOOKUP(C10,Сводный!I:L,2,FALSE)<0,IF(AX10<0,AX10-1,-1),IF(AX10>0,AX10+1,1))) -> 0
B12: 11 | C12: 40147 | D12: 0.59725694 | E12: =C12 -> 40147 | F12: 0.63574074 | G12: AMX | H12: L | I12: 48.24 | J12: 48.19 | K12: 100 | L12: 2.62 | M12: необоснованный вход | N12: конец дня | O12: -2 | P12: Стратегия №2 | S12: =S11+R12+X12 -> 24959.88 | T12: =L12 -> 2.62 | U12: =I12*ABS(K12) -> 4824 | V12: =J12*ABS(K12) -> 4819 | W12: =IF(H12="s",U12-V12,V12-U12) -> -5 | X12: =W12-T12 -> -7.62 | Y12: =Y11+W11 -> -9 | Z12: =Z11+X11 -> -32.5 | AA12: =Y12+W12 -> -14 | AB12: =Z12+X12 -> -40.12 | AC12: =IF(G12<>"",VLOOKUP(WEEKDAY(C12,2),Служебный!K$4:L$10,2),"") -> пн | AD12: =IF(G12 <> "",TEXT((HOUR(D12)),0)&"-"&TEXT(HOUR(D12)+1,0),"") -> 14-15 | AE12: =VLOOKUP(G:G,Служебный!B:G,6,) -> NYSE | AF12: =VLOOKUP(G:G,Служебный!B:G,3,FALSE) -> Technology | AG12: =VLOOKUP(G:G,Служебный!B:G,4,FALSE) -> Wireless Communications | AH12: =ROUND(((E12+F12)-(C12+D12))*86400,0) -> 3325 | AI12: =IF(FLOOR((AH12/60),15)>400,"Среднесрок",FLOOR((AH12/60),15)) -> 45 | AJ12: =IFERROR(IF(FLOOR((AH12/86400),1)=0,"интрадей",(FLOOR((AH12/86400),1))-(FLOOR((AH12/86400),1))-NETWORKDAYS(E12,C12)),IF(FLOOR((AH12/86400),1)=0,"интрадей",(FLOOR((AH12/86400),1)))) -> интрадей | AK12: =IF(D12<Служебный!P$3,"Раньше открытия",IF(D12>Служебный!P$6,"Позже закрытия",IF(D12<Служебный!P$4,Служебный!N$4,IF((D12>Служебный!P$5),Служебный!N$6,Служебный!N$5)))) -> 11:00 - 14:30 | AL12: =IF(X12>0,X12,0) -> 0 | AM12: =IF(X12<0,X12,0) -> -7.62 | AN12: =IF(G12<>"",YEAR(C12),"") -> 2009 | AO12: =IF(G12<>"",(IF(TEXT(C12,"MMMM") = "MMMM",TEXT(C12,"ММММ"),TEXT(C12,"MMMM"))),"") -> Ноябрь | AP12: =IF(G12<>"",CEILING((C12-DATE(YEAR(C12),1,1)+WEEKDAY(DATE(YEAR(C12),1,1),2))/7,1),"") -> 49 | AQ12: =IF(AV12<>0,S12,0) -> 0 | AR12: =AR11+R12 -> 25000 | AS12: =IFERROR(100*(S12-AR12)/AR12,"Заполните депозит") -> -0.16048 | AT12: =IFERROR(100*(S12-S11-R12)/(S11+R12),"Заполните депозит") -> -0.030519676 | AU12: =IF(C12<>C11,Z12,0) -> 0 | AV12: =IF(C12<>C13,AB12,0) -> 0 | AW12: =CEILING(I12,5) -> 50 | AX12: =IF(AV12=0,AX11,IF(VLOOKUP(C11,Сводный!I:L,2,FALSE)<0,IF(AX11<0,AX11-1,-1),IF(AX11>0,AX11+1,1))) -> 0
B13: 12 | C13: 40147 | D13: 0.56658565 | E13: =C13 -> 40147 | F13: 0.66554398 | G13: BYI | H13: S | I13: 41.08 | J13: 41.56 | K13: 100 | L13: 2.2 | M13: пробой уровня | N13: конец дня | O13: -2 | P13: Черепахи | S13: =S12+R13+X13 -> 24909.68 | T13: =L13 -> 2.2 | U13: =I13*ABS(K13) -> 4108 | V13: =J13*ABS(K13) -> 4156 | W13: =IF(H13="s",U13-V13,V13-U13) -> -48 | X13: =W13-T13 -> -50.2 | Y13: =Y12+W12 -> -14 | Z13: =Z12+X12 -> -40.12 | AA13: =Y13+W13 -> -62 | AB13: =Z13+X13 -> -90.32 | AC13: =IF(G13<>"",VLOOKUP(WEEKDAY(C13,2),Служебный!K$4:L$10,2),"") -> пн | AD13: =IF(G13 <> "",TEXT((HOUR(D13)),0)&"-"&TEXT(HOUR(D13)+1,0),"") -> 13-14 | AE13: =VLOOKUP(G:G,Служебный!B:G,6,) -> NYSE | AF13: =VLOOKUP(G:G,Служебный!B:G,3,FALSE) -> Services | AG13: =VLOOKUP(G:G,Служебный!B:G,4,FALSE) -> Gaming Activities | AH13: =ROUND(((E13+F13)-(C13+D13))*86400,0) -> 8550 | AI13: =IF(FLOOR((AH13/60),15)>400,"Среднесрок",FLOOR((AH13/60),15)) -> 135 | AJ13: =IFERROR(IF(FLOOR((AH13/86400),1)=0,"интрадей",(FLOOR((AH13/86400),1))-(FLOOR((AH13/86400),1))-NETWORKDAYS(E13,C13)),IF(FLOOR((AH13/86400),1)=0,"интрадей",(FLOOR((AH13/86400),1)))) -> интрадей | AK13: =IF(D13<Служебный!P$3,"Раньше открытия",IF(D13>Служебный!P$6,"Позже закрытия",IF(D13<Служебный!P$4,Служебный!N$4,IF((D13>Служебный!P$5),Служебный!N$6,Служебный!N$5)))) -> 11:00 - 14:30 | AL13: =IF(X13>0,X13,0) -> 0 | AM13: =IF(X13<0,X13,0) -> -50.2 | AN13: =IF(G13<>"",YEAR(C13),"") -> 2009 | AO13: =IF(G13<>"",(IF(TEXT(C13,"MMMM") = "MMMM",TEXT(C13,"ММММ"),TEXT(C13,"MMMM"))),"") -> Ноябрь | AP13: =IF(G13<>"",CEILING((C13-DATE(YEAR(C13),1,1)+WEEKDAY(DATE(YEAR(C13),1,1),2))/7,1),"") -> 49 | AQ13: =IF(AV13<>0,S13,0) -> 0 | AR13: =AR12+R13 -> 25000 | AS13: =IFERROR(100*(S13-AR13)/AR13,"Заполните депозит") -> -0.36128 | AT13: =IFERROR(100*(S13-S12-R13)/(S12+R13),"Заполните депозит") -> -0.20112276 | AU13: =IF(C13<>C12,Z13,0) -> 0 | AV13: =IF(C13<>C14,AB13,0) -> 0 | AW13: =CEILING(I13,5) -> 45 | AX13: =IF(AV13=0,AX12,IF(VLOOKUP(C12,Сводный!I:L,2,FALSE)<0,IF(AX12<0,AX12-1,-1),IF(AX12>0,AX12+1,1))) -> 0
B14: 13 | C14: 40147 | D14: 0.59702546 | E14: =C14 -> 40147 | F14: 0.66587963 | G14: PLT | H14: L | I14: 23.25 | J14: 23.15 | K14: 100 | L14: 2.43 | M14: В канале | N14: Цель | O14: -2 | P14: Черепахи | S14: =S13+R14+X14 -> 24897.25 | T14: =L14 -> 2.43 | U14: =I14*ABS(K14) -> 2325 | V14: =J14*ABS(K14) -> 2315 | W14: =IF(H14="s",U14-V14,V14-U14) -> -10 | X14: =W14-T14 -> -12.43 | Y14: =Y13+W13 -> -62 | Z14: =Z13+X13 -> -90.32 | AA14: =Y14+W14 -> -72 | AB14: =Z14+X14 -> -102.75 | AC14: =IF(G14<>"",VLOOKUP(WEEKDAY(C14,2),Служебный!K$4:L$10,2),"") -> пн | AD14: =IF(G14 <> "",TEXT((HOUR(D14)),0)&"-"&TEXT(HOUR(D14)+1,0),"") -> 14-15 | AE14: =VLOOKUP(G:G,Служебный!B:G,6,) -> NYSE | AF14: =VLOOKUP(G:G,Служебный!B:G,3,FALSE) -> Technology | AG14: =VLOOKUP(G:G,Служебный!B:G,4,FALSE) -> Processing Systems & Products | AH14: =ROUND(((E14+F14)-(C14+D14))*86400,0) -> 5949 | AI14: =IF(FLOOR((AH14/60),15)>400,"Среднесрок",FLOOR((AH14/60),15)) -> 90 | AJ14: =IFERROR(IF(FLOOR((AH14/86400),1)=0,"интрадей",(FLOOR((AH14/86400),1))-(FLOOR((AH14/86400),1))-NETWORKDAYS(E14,C14)),IF(FLOOR((AH14/86400),1)=0,"интрадей",(FLOOR((AH14/86400),1)))) -> интрадей | AK14: =IF(D14<Служебный!P$3,"Раньше открытия",IF(D14>Служебный!P$6,"Позже закрытия",IF(D14<Служебный!P$4,Служебный!N$4,IF((D14>Служебный!P$5),Служебный!N$6,Служебный!N$5)))) -> 11:00 - 14:30 | AL14: =IF(X14>0,X14,0) -> 0 | AM14: =IF(X14<0,X14,0) -> -12.43 | AN14: =IF(G14<>"",YEAR(C14),"") -> 2009 | AO14: =IF(G14<>"",(IF(TEXT(C14,"MMMM") = "MMMM",TEXT(C14,"ММММ"),TEXT(C14,"MMMM"))),"") -> Ноябрь | AP14: =IF(G14<>"",CEILING((C14-DATE(YEAR(C14),1,1)+WEEKDAY(DATE(YEAR(C14),1,1),2))/7,1),"") -> 49 | AQ14: =IF(AV14<>0,S14,0) -> 0 | AR14: =AR13+R14 -> 25000 | AS14: =IFERROR(100*(S14-AR14)/AR14,"Заполните депозит") -> -0.411 | AT14: =IFERROR(100*(S14-S13-R14)/(S13+R14),"Заполните депозит") -> -0.04990028 | AU14: =IF(C14<>C13,Z14,0) -> 0 | AV14: =IF(C14<>C15,AB14,0) -> 0 | AW14: =CEILING(I14,5) -> 25 | AX14: =IF(AV14=0,AX13,IF(VLOOKUP(C13,Сводный!I:L,2,FALSE)<0,IF(AX13<0,AX13-1,-1),IF(AX13>0,AX13+1,1))) -> 0
B15: 14 | C15: 40147 | D15: 0.598125 | E15: =C15 -> 40147 | F15: 0.6659375 | G15: MFE | H15: L | I15: 38.14 | J15: 38.08 | K15: 100 | L15: 2.59 | M15: разворотная формация | N15: новости | O15: -2 | P15: Стратегия №2 | S15: =S14+R15+X15 -> 24888.66 | T15: =L15 -> 2.59 | U15: =I15*ABS(K15) -> 3814 | V15: =J15*ABS(K15) -> 3808 | W15: =IF(H15="s",U15-V15,V15-U15) -> -6 | X15: =W15-T15 -> -8.59 | Y15: =Y14+W14 -> -72 | Z15: =Z14+X14 -> -102.75 | AA15: =Y15+W15 -> -78 | AB15: =Z15+X15 -> -111.34 | AC15: =IF(G15<>"",VLOOKUP(WEEKDAY(C15,2),Служебный!K$4:L$10,2),"") -> пн | AD15: =IF(G15 <> "",TEXT((HOUR(D15)),0)&"-"&TEXT(HOUR(D15)+1,0),"") -> 14-15 | AE15: =VLOOKUP(G:G,Служебный!B:G,6,) -> NYSE | AF15: =VLOOKUP(G:G,Служебный!B:G,3,FALSE) -> Technology | AG15: =VLOOKUP(G:G,Служебный!B:G,4,FALSE) -> Security Software & Services | AH15: =ROUND(((E15+F15)-(C15+D15))*86400,0) -> 5859 | AI15: =IF(FLOOR((AH15/60),15)>400,"Среднесрок",FLOOR((AH15/60),15)) -> 90 | AJ15: =IFERROR(IF(FLOOR((AH15/86400),1)=0,"интрадей",(FLOOR((AH15/86400),1))-(FLOOR((AH15/86400),1))-NETWORKDAYS(E15,C15)),IF(FLOOR((AH15/86400),1)=0,"интрадей",(FLOOR((AH15/86400),1)))) -> интрадей | AK15: =IF(D15<Служебный!P$3,"Раньше открытия",IF(D15>Служебный!P$6,"Позже закрытия",IF(D15<Служебный!P$4,Служебный!N$4,IF((D15>Служебный!P$5),Служебный!N$6,Служебный!N$5)))) -> 11:00 - 14:30 | AL15: =IF(X15>0,X15,0) -> 0 | AM15: =IF(X15<0,X15,0) -> -8.59 | AN15: =IF(G15<>"",YEAR(C15),"") -> 2009 | AO15: =IF(G15<>"",(IF(TEXT(C15,"MMMM") = "MMMM",TEXT(C15,"ММММ"),TEXT(C15,"MMMM"))),"") -> Ноябрь | AP15: =IF(G15<>"",CEILING((C15-DATE(YEAR(C15),1,1)+WEEKDAY(DATE(YEAR(C15),1,1),2))/7,1),"") -> 49 | AQ15: =IF(AV15<>0,S15,0) -> 0 | AR15: =AR14+R15 -> 25000 | AS15: =IFERROR(100*(S15-AR15)/AR15,"Заполните депозит") -> -0.44536 | AT15: =IFERROR(100*(S15-S14-R15)/(S14+R15),"Заполните депозит") -> -0.034501802 | AU15: =IF(C15<>C14,Z15,0) -> 0 | AV15: =IF(C15<>C16,AB15,0) -> 0 | AW15: =CEILING(I15,5) -> 40 | AX15: =IF(AV15=0,AX14,IF(VLOOKUP(C14,Сводный!I:L,2,FALSE)<0,IF(AX14<0,AX14-1,-1),IF(AX14>0,AX14+1,1))) -> 0
B16: 15 | C16: 40147 | D16: 0.61391204 | E16: =C16 -> 40147 | F16: 0.66603009 | G16: MRX | H16: L | I16: 23.64 | J16: 23.57 | K16: 100 | L16: 2.44 | M16: пробой уровня | N16: стоп | O16: -2 | P16: Черепахи | S16: =S15+R16+X16 -> 24879.22 | T16: =L16 -> 2.44 | U16: =I16*ABS(K16) -> 2364 | V16: =J16*ABS(K16) -> 2357 | W16: =IF(H16="s",U16-V16,V16-U16) -> -7 | X16: =W16-T16 -> -9.44 | Y16: =Y15+W15 -> -78 | Z16: =Z15+X15 -> -111.34 | AA16: =Y16+W16 -> -85 | AB16: =Z16+X16 -> -120.78 | AC16: =IF(G16<>"",VLOOKUP(WEEKDAY(C16,2),Служебный!K$4:L$10,2),"") -> пн | AD16: =IF(G16 <> "",TEXT((HOUR(D16)),0)&"-"&TEXT(HOUR(D16)+1,0),"") -> 14-15 | AE16: =VLOOKUP(G:G,Служебный!B:G,6,) -> NYSE | AF16: =VLOOKUP(G:G,Служебный!B:G,3,FALSE) -> Healthcare | AG16: =VLOOKUP(G:G,Служебный!B:G,4,FALSE) -> Biotechnology | AH16: =ROUND(((E16+F16)-(C16+D16))*86400,0) -> 4503 | AI16: =IF(FLOOR((AH16/60),15)>400,"Среднесрок",FLOOR((AH16/60),15)) -> 75 | AJ16: =IFERROR(IF(FLOOR((AH16/86400),1)=0,"интрадей",(FLOOR((AH16/86400),1))-(FLOOR((AH16/86400),1))-NETWORKDAYS(E16,C16)),IF(FLOOR((AH16/86400),1)=0,"интрадей",(FLOOR((AH16/86400),1)))) -> интрадей | AK16: =IF(D16<Служебный!P$3,"Раньше открытия",IF(D16>Служебный!P$6,"Позже закрытия",IF(D16<Служебный!P$4,Служебный!N$4,IF((D16>Служебный!P$5),Служебный!N$6,Служебный!N$5)))) -> 14:30 - 16:00 | AL16: =IF(X16>0,X16,0) -> 0 | AM16: =IF(X16<0,X16,0) -> -9.44 | AN16: =IF(G16<>"",YEAR(C16),"") -> 2009 | AO16: =IF(G16<>"",(IF(TEXT(C16,"MMMM") = "MMMM",TEXT(C16,"ММММ"),TEXT(C16,"MMMM"))),"") -> Ноябрь | AP16: =IF(G16<>"",CEILING((C16-DATE(YEAR(C16),1,1)+WEEKDAY(DATE(YEAR(C16),1,1),2))/7,1),"") -> 49 | AQ16: =IF(AV16<>0,S16,0) -> 0 | AR16: =AR15+R16 -> 25000 | AS16: =IFERROR(100*(S16-AR16)/AR16,"Заполните депозит") -> -0.48312 | AT16: =IFERROR(100*(S16-S15-R16)/(S15+R16),"Заполните депозит") -> -0.03792892 | AU16: =IF(C16<>C15,Z16,0) -> 0 | AV16: =IF(C16<>C17,AB16,0) -> 0 | AW16: =CEILING(I16,5) -> 25 | AX16: =IF(AV16=0,AX15,IF(VLOOKUP(C15,Сводный!I:L,2,FALSE)<0,IF(AX15<0,AX15-1,-1),IF(AX15>0,AX15+1,1))) -> 0
B17: 16 | C17: 40147 | D17: 0.63583333 | E17: =C17 -> 40147 | F17: 0.66590278 | G17: PLT | H17: L | I17: 23.4 | J17: 23.15 | K17: 200 | L17: 4.86 | M17: продолжение движения | N17: стоп | O17: -2 | P17: Стратегия №2 | S17: =S16+R17+X17 -> 24824.36 | T17: =L17 -> 4.86 | U17: =I17*ABS(K17) -> 4680 | V17: =J17*ABS(K17) -> 4630 | W17: =IF(H17="s",U17-V17,V17-U17) -> -50 | X17: =W17-T17 -> -54.86 | Y17: =Y16+W16 -> -85 | Z17: =Z16+X16 -> -120.78 | AA17: =Y17+W17 -> -135 | AB17: =Z17+X17 -> -175.64 | AC17: =IF(G17<>"",VLOOKUP(WEEKDAY(C17,2),Служебный!K$4:L$10,2),"") -> пн | AD17: =IF(G17 <> "",TEXT((HOUR(D17)),0)&"-"&TEXT(HOUR(D17)+1,0),"") -> 15-16 | AE17: =VLOOKUP(G:G,Служебный!B:G,6,) -> NYSE | AF17: =VLOOKUP(G:G,Служебный!B:G,3,FALSE) -> Technology | AG17: =VLOOKUP(G:G,Служебный!B:G,4,FALSE) -> Processing Systems & Products | AH17: =ROUND(((E17+F17)-(C17+D17))*86400,0) -> 2598 | AI17: =IF(FLOOR((AH17/60),15)>400,"Среднесрок",FLOOR((AH17/60),15)) -> 30 | AJ17: =IFERROR(IF(FLOOR((AH17/86400),1)=0,"интрадей",(FLOOR((AH17/86400),1))-(FLOOR((AH17/86400),1))-NETWORKDAYS(E17,C17)),IF(FLOOR((AH17/86400),1)=0,"интрадей",(FLOOR((AH17/86400),1)))) -> интрадей | AK17: =IF(D17<Служебный!P$3,"Раньше открытия",IF(D17>Служебный!P$6,"Позже закрытия",IF(D17<Служебный!P$4,Служебный!N$4,IF((D17>Служебный!P$5),Служебный!N$6,Служебный!N$5)))) -> 14:30 - 16:00 | AL17: =IF(X17>0,X17,0) -> 0 | AM17: =IF(X17<0,X17,0) -> -54.86 | AN17: =IF(G17<>"",YEAR(C17),"") -> 2009 | AO17: =IF(G17<>"",(IF(TEXT(C17,"MMMM") = "MMMM",TEXT(C17,"ММММ"),TEXT(C17,"MMMM"))),"") -> Ноябрь | AP17: =IF(G17<>"",CEILING((C17-DATE(YEAR(C17),1,1)+WEEKDAY(DATE(YEAR(C17),1,1),2))/7,1),"") -> 49 | AQ17: =IF(AV17<>0,S17,0) -> 24824.36 | AR17: =AR16+R17 -> 25000 | AS17: =IFERROR(100*(S17-AR17)/AR17,"Заполните депозит") -> -0.70256 | AT17: =IFERROR(100*(S17-S16-R17)/(S16+R17),"Заполните депозит") -> -0.22050531 | AU17: =IF(C17<>C16,Z17,0) -> 0 | AV17: =IF(C17<>C18,AB17,0) -> -175.64 | AW17: =CEILING(I17,5) -> 25 | AX17: =IF(AV17=0,AX16,IF(VLOOKUP(C16,Сводный!I:L,2,FALSE)<0,IF(AX16<0,AX16-1,-1),IF(AX16>0,AX16+1,1))) -> -1
... B42: 41 | C42: 40155 | D42: 0.60173611 | E42: =C42 -> 40155 | F42: 0.66217593 | G42: ARD | H42: L | I42: 40.035 | J42: 40.125 | K42: 200 | L42: 4.79826 | M42: Прочее | N42: новости | O42: 1 | P42: Стратегия №2 | S42: =S41+R42+X42 -> 25042.294 | T42: =L42 -> 4.79826 | U42: =I42*ABS(K42) -> 8007 | V42: =J42*ABS(K42) -> 8025 | W42: =IF(H42="s",U42-V42,V42-U42) -> 18 | X42: =W42-T42 -> 13.20174 | Y42: =Y41+W41 -> 142.01 | Z42: =Z41+X41 -> 29.09261 | AA42: =Y42+W42 -> 160.01 | AB42: =Z42+X42 -> 42.29435 | AC42: =IF(G42<>"",VLOOKUP(WEEKDAY(C42,2),Служебный!K$4:L$10,2),"") -> вт | AD42: =IF(G42 <> "",TEXT((HOUR(D42)),0)&"-"&TEXT(HOUR(D42)+1,0),"") -> 14-15 | AE42: =VLOOKUP(G:G,Служебный!B:G,6,) -> NYSE | AF42: =VLOOKUP(G:G,Служебный!B:G,3,FALSE) -> Basic Materials | AG42: =VLOOKUP(G:G,Служебный!B:G,4,FALSE) -> Oil & Gas Drilling & Exploration | AH42: =ROUND(((E42+F42)-(C42+D42))*86400,0) -> 5222 | AI42: =IF(FLOOR((AH42/60),15)>400,"Среднесрок",FLOOR((AH42/60),15)) -> 75 | AJ42: =IFERROR(IF(FLOOR((AH42/86400),1)=0,"интрадей",(FLOOR((AH42/86400),1))-(FLOOR((AH42/86400),1))-NETWORKDAYS(E42,C42)),IF(FLOOR((AH42/86400),1)=0,"интрадей",(FLOOR((AH42/86400),1)))) -> интрадей | AK42: =IF(D42<Служебный!P$3,"Раньше открытия",IF(D42>Служебный!P$6,"Позже закрытия",IF(D42<Служебный!P$4,Служебный!N$4,IF((D42>Служебный!P$5),Служебный!N$6,Служебный!N$5)))) -> 11:00 - 14:30 | AL42: =IF(X42>0,X42,0) -> 13.20174 | AM42: =IF(X42<0,X42,0) -> 0 | AN42: =IF(G42<>"",YEAR(C42),"") -> 2009 | AO42: =IF(G42<>"",(IF(TEXT(C42,"MMMM") = "MMMM",TEXT(C42,"ММММ"),TEXT(C42,"MMMM"))),"") -> Декабрь | AP42: =IF(G42<>"",CEILING((C42-DATE(YEAR(C42),1,1)+WEEKDAY(DATE(YEAR(C42),1,1),2))/7,1),"") -> 50 | AQ42: =IF(AV42<>0,S42,0) -> 0 | AR42: =AR41+R42 -> 25000 | AS42: =IFERROR(100*(S42-AR42)/AR42,"Заполните депозит") -> 0.1691774 | AT42: =IFERROR(100*(S42-S41-R42)/(S41+R42),"Заполните депозит") -> 0.05274558 | AU42: =IF(C42<>C41,Z42,0) -> 0 | AV42: =IF(C42<>C43,AB42,0) -> 0 | AW42: =CEILING(I42,5) -> 45 | AX42: =IF(AV42=0,AX41,IF(VLOOKUP(C41,Сводный!I:L,2,FALSE)<0,IF(AX41<0,AX41-1,-1),IF(AX41>0,AX41+1,1))) -> 1
B43: 42 | C43: 40155 | D43: 0.61851852 | E43: =C43 -> 40155 | F43: 0.62199074 | G43: ANR | H43: L | I43: 36.51 | J43: 36.49 | K43: 100 | L43: 2.39913 | M43: отбой от уровня | N43: стоп | O43: 2 | P43: Разворотная | R43: -5000 | S43: =S42+R43+X43 -> 20037.895 | T43: =L43 -> 2.39913 | U43: =I43*ABS(K43) -> 3651 | V43: =J43*ABS(K43) -> 3649 | W43: =IF(H43="s",U43-V43,V43-U43) -> -2 | X43: =W43-T43 -> -4.39913 | Y43: =Y42+W42 -> 160.01 | Z43: =Z42+X42 -> 42.29435 | AA43: =Y43+W43 -> 158.01 | AB43: =Z43+X43 -> 37.89522 | AC43: =IF(G43<>"",VLOOKUP(WEEKDAY(C43,2),Служебный!K$4:L$10,2),"") -> вт | AD43: =IF(G43 <> "",TEXT((HOUR(D43)),0)&"-"&TEXT(HOUR(D43)+1,0),"") -> 14-15 | AE43: =VLOOKUP(G:G,Служебный!B:G,6,) -> NYSE | AF43: =VLOOKUP(G:G,Служебный!B:G,3,FALSE) -> Basic Materials | AG43: =VLOOKUP(G:G,Служебный!B:G,4,FALSE) -> Industrial Metals & Minerals | AH43: =ROUND(((E43+F43)-(C43+D43))*86400,0) -> 300 | AI43: =IF(FLOOR((AH43/60),15)>400,"Среднесрок",FLOOR((AH43/60),15)) -> 0 | AJ43: =IFERROR(IF(FLOOR((AH43/86400),1)=0,"интрадей",(FLOOR((AH43/86400),1))-(FLOOR((AH43/86400),1))-NETWORKDAYS(E43,C43)),IF(FLOOR((AH43/86400),1)=0,"интрадей",(FLOOR((AH43/86400),1)))) -> интрадей | AK43: =IF(D43<Служебный!P$3,"Раньше открытия",IF(D43>Служебный!P$6,"Позже закрытия",IF(D43<Служебный!P$4,Служебный!N$4,IF((D43>Служебный!P$5),Служебный!N$6,Служебный!N$5)))) -> 14:30 - 16:00 | AL43: =IF(X43>0,X43,0) -> 0 | AM43: =IF(X43<0,X43,0) -> -4.39913 | AN43: =IF(G43<>"",YEAR(C43),"") -> 2009 | AO43: =IF(G43<>"",(IF(TEXT(C43,"MMMM") = "MMMM",TEXT(C43,"ММММ"),TEXT(C43,"MMMM"))),"") -> Декабрь | AP43: =IF(G43<>"",CEILING((C43-DATE(YEAR(C43),1,1)+WEEKDAY(DATE(YEAR(C43),1,1),2))/7,1),"") -> 50 | AQ43: =IF(AV43<>0,S43,0) -> 20037.895 | AR43: =AR42+R43 -> 20000 | AS43: =IFERROR(100*(S43-AR43)/AR43,"Заполните депозит") -> 0.1894761 | AT43: =IFERROR(100*(S43-S42-R43)/(S42+R43),"Заполните депозит") -> -0.021949234 | AU43: =IF(C43<>C42,Z43,0) -> 0 | AV43: =IF(C43<>C44,AB43,0) -> 37.89522 | AW43: =CEILING(I43,5) -> 40 | AX43: =IF(AV43=0,AX42,IF(VLOOKUP(C42,Сводный!I:L,2,FALSE)<0,IF(AX42<0,AX42-1,-1),IF(AX42>0,AX42+1,1))) -> -1
B44: 43 | C44: 40156 | D44: 0.40172454 | E44: =C44 -> 40156 | F44: 0.40324074 | G44: GCI | H44: L | I44: 11.56 | J44: 11.48 | K44: 100 | L44: 2.2832 | M44: отбой от уровня | N44: стоп | O44: -1 | P44: Разворотная | S44: =S43+R44+X44 -> 20027.612 | T44: =L44 -> 2.2832 | U44: =I44*ABS(K44) -> 1156 | V44: =J44*ABS(K44) -> 1148 | W44: =IF(H44="s",U44-V44,V44-U44) -> -8 | X44: =W44-T44 -> -10.2832 | Y44: =Y43+W43 -> 158.01 | Z44: =Z43+X43 -> 37.89522 | AA44: =Y44+W44 -> 150.01 | AB44: =Z44+X44 -> 27.61202 | AC44: =IF(G44<>"",VLOOKUP(WEEKDAY(C44,2),Служебный!K$4:L$10,2),"") -> ср | AD44: =IF(G44 <> "",TEXT((HOUR(D44)),0)&"-"&TEXT(HOUR(D44)+1,0),"") -> 9-10 | AE44: =VLOOKUP(G:G,Служебный!B:G,6,) -> NYSE | AF44: =VLOOKUP(G:G,Служебный!B:G,3,FALSE) -> Services | AG44: =VLOOKUP(G:G,Служебный!B:G,4,FALSE) -> Publishing - Newspapers | AH44: =ROUND(((E44+F44)-(C44+D44))*86400,0) -> 131 | AI44: =IF(FLOOR((AH44/60),15)>400,"Среднесрок",FLOOR((AH44/60),15)) -> 0 | AJ44: =IFERROR(IF(FLOOR((AH44/86400),1)=0,"интрадей",(FLOOR((AH44/86400),1))-(FLOOR((AH44/86400),1))-NETWORKDAYS(E44,C44)),IF(FLOOR((AH44/86400),1)=0,"интрадей",(FLOOR((AH44/86400),1)))) -> интрадей | AK44: =IF(D44<Служебный!P$3,"Раньше открытия",IF(D44>Служебный!P$6,"Позже закрытия",IF(D44<Служебный!P$4,Служебный!N$4,IF((D44>Служебный!P$5),Служебный!N$6,Служебный!N$5)))) -> 9:30 - 11:00 | AL44: =IF(X44>0,X44,0) -> 0 | AM44: =IF(X44<0,X44,0) -> -10.2832 | AN44: =IF(G44<>"",YEAR(C44),"") -> 2009 | AO44: =IF(G44<>"",(IF(TEXT(C44,"MMMM") = "MMMM",TEXT(C44,"ММММ"),TEXT(C44,"MMMM"))),"") -> Декабрь | AP44: =IF(G44<>"",CEILING((C44-DATE(YEAR(C44),1,1)+WEEKDAY(DATE(YEAR(C44),1,1),2))/7,1),"") -> 50 | AQ44: =IF(AV44<>0,S44,0) -> 0 | AR44: =AR43+R44 -> 20000 | AS44: =IFERROR(100*(S44-AR44)/AR44,"Заполните депозит") -> 0.1380601 | AT44: =IFERROR(100*(S44-S43-R44)/(S43+R44),"Заполните депозит") -> -0.051318763 | AU44: =IF(C44<>C43,Z44,0) -> 37.89522 | AV44: =IF(C44<>C45,AB44,0) -> 0 | AW44: =CEILING(I44,5) -> 15 | AX44: =IF(AV44=0,AX43,IF(VLOOKUP(C43,Сводный!I:L,2,FALSE)<0,IF(AX43<0,AX43-1,-1),IF(AX43>0,AX43+1,1))) -> -1
B45: 44 | C45: 40156 | D45: 0.40460648 | E45: =C45 -> 40156 | F45: 0.41333333 | G45: PAA | H45: S | I45: 50.98 | J45: 51.05 | K45: 200 | L45: 4.5664 | M45: отбой от уровня | N45: стоп | O45: 1 | P45: Разворотная | S45: =S44+R45+X45 -> 20009.046 | T45: =L45 -> 4.5664 | U45: =I45*ABS(K45) -> 10196 | V45: =J45*ABS(K45) -> 10210 | W45: =IF(H45="s",U45-V45,V45-U45) -> -14 | X45: =W45-T45 -> -18.5664 | Y45: =Y44+W44 -> 150.01 | Z45: =Z44+X44 -> 27.61202 | AA45: =Y45+W45 -> 136.01 | AB45: =Z45+X45 -> 9.04562 | AC45: =IF(G45<>"",VLOOKUP(WEEKDAY(C45,2),Служебный!K$4:L$10,2),"") -> ср | AD45: =IF(G45 <> "",TEXT((HOUR(D45)),0)&"-"&TEXT(HOUR(D45)+1,0),"") -> 9-10 | AE45: =VLOOKUP(G:G,Служебный!B:G,6,) -> NYSE | AF45: =VLOOKUP(G:G,Служебный!B:G,3,FALSE) -> Basic Materials | AG45: =VLOOKUP(G:G,Служебный!B:G,4,FALSE) -> Oil & Gas Pipelines | AH45: =ROUND(((E45+F45)-(C45+D45))*86400,0) -> 754 | AI45: =IF(FLOOR((AH45/60),15)>400,"Среднесрок",FLOOR((AH45/60),15)) -> 0 | AJ45: =IFERROR(IF(FLOOR((AH45/86400),1)=0,"интрадей",(FLOOR((AH45/86400),1))-(FLOOR((AH45/86400),1))-NETWORKDAYS(E45,C45)),IF(FLOOR((AH45/86400),1)=0,"интрадей",(FLOOR((AH45/86400),1)))) -> интрадей | AK45: =IF(D45<Служебный!P$3,"Раньше открытия",IF(D45>Служебный!P$6,"Позже закрытия",IF(D45<Служебный!P$4,Служебный!N$4,IF((D45>Служебный!P$5),Служебный!N$6,Служебный!N$5)))) -> 9:30 - 11:00 | AL45: =IF(X45>0,X45,0) -> 0 | AM45: =IF(X45<0,X45,0) -> -18.5664 | AN45: =IF(G45<>"",YEAR(C45),"") -> 2009 | AO45: =IF(G45<>"",(IF(TEXT(C45,"MMMM") = "MMMM",TEXT(C45,"ММММ"),TEXT(C45,"MMMM"))),"") -> Декабрь | AP45: =IF(G45<>"",CEILING((C45-DATE(YEAR(C45),1,1)+WEEKDAY(DATE(YEAR(C45),1,1),2))/7,1),"") -> 50 | AQ45: =IF(AV45<>0,S45,0) -> 0 | AR45: =AR44+R45 -> 20000 | AS45: =IFERROR(100*(S45-AR45)/AR45,"Заполните депозит") -> 0.0452281 | AT45: =IFERROR(100*(S45-S44-R45)/(S44+R45),"Заполните депозит") -> -0.092704013 | AU45: =IF(C45<>C44,Z45,0) -> 0 | AV45: =IF(C45<>C46,AB45,0) -> 0 | AW45: =CEILING(I45,5) -> 55 | AX45: =IF(AV45=0,AX44,IF(VLOOKUP(C44,Сводный!I:L,2,FALSE)<0,IF(AX44<0,AX44-1,-1),IF(AX44>0,AX44+1,1))) -> -1
B46: 45 | C46: 40156 | D46: 0.41065972 | E46: =C46 -> 40156 | F46: 0.41116898 | G46: CP | H46: S | I46: 51.98 | J46: 52.07 | K46: 100 | L46: 2.2832 | M46: отбой от уровня | N46: цель | O46: 0 | P46: Разворотная | S46: =S45+R46+X46 -> 19997.762 | T46: =L46 -> 2.2832 | U46: =I46*ABS(K46) -> 5198 | V46: =J46*ABS(K46) -> 5207 | W46: =IF(H46="s",U46-V46,V46-U46) -> -9 | X46: =W46-T46 -> -11.2832 | Y46: =Y45+W45 -> 136.01 | Z46: =Z45+X45 -> 9.04562 | AA46: =Y46+W46 -> 127.01 | AB46: =Z46+X46 -> -2.23758 | AC46: =IF(G46<>"",VLOOKUP(WEEKDAY(C46,2),Служебный!K$4:L$10,2),"") -> ср | AD46: =IF(G46 <> "",TEXT((HOUR(D46)),0)&"-"&TEXT(HOUR(D46)+1,0),"") -> 9-10 | AE46: =VLOOKUP(G:G,Служебный!B:G,6,) -> NYSE | AF46: =VLOOKUP(G:G,Служебный!B:G,3,FALSE) -> Services | AG46: =VLOOKUP(G:G,Служебный!B:G,4,FALSE) -> Railroads | AH46: =ROUND(((E46+F46)-(C46+D46))*86400,0) -> 44 | AI46: =IF(FLOOR((AH46/60),15)>400,"Среднесрок",FLOOR((AH46/60),15)) -> 0 | AJ46: =IFERROR(IF(FLOOR((AH46/86400),1)=0,"интрадей",(FLOOR((AH46/86400),1))-(FLOOR((AH46/86400),1))-NETWORKDAYS(E46,C46)),IF(FLOOR((AH46/86400),1)=0,"интрадей",(FLOOR((AH46/86400),1)))) -> интрадей | AK46: =IF(D46<Служебный!P$3,"Раньше открытия",IF(D46>Служебный!P$6,"Позже закрытия",IF(D46<Служебный!P$4,Служебный!N$4,IF((D46>Служебный!P$5),Служебный!N$6,Служебный!N$5)))) -> 9:30 - 11:00 | AL46: =IF(X46>0,X46,0) -> 0 | AM46: =IF(X46<0,X46,0) -> -11.2832 | AN46: =IF(G46<>"",YEAR(C46),"") -> 2009 | AO46: =IF(G46<>"",(IF(TEXT(C46,"MMMM") = "MMMM",TEXT(C46,"ММММ"),TEXT(C46,"MMMM"))),"") -> Декабрь | AP46: =IF(G46<>"",CEILING((C46-DATE(YEAR(C46),1,1)+WEEKDAY(DATE(YEAR(C46),1,1),2))/7,1),"") -> 50 | AQ46: =IF(AV46<>0,S46,0) -> 0 | AR46: =AR45+R46 -> 20000 | AS46: =IFERROR(100*(S46-AR46)/AR46,"Заполните депозит") -> -0.0111879 | AT46: =IFERROR(100*(S46-S45-R46)/(S45+R46),"Заполните депозит") -> -0.056390496 | AU46: =IF(C46<>C45,Z46,0) -> 0 | AV46: =IF(C46<>C47,AB46,0) -> 0 | AW46: =CEILING(I46,5) -> 55 | AX46: =IF(AV46=0,AX45,IF(VLOOKUP(C45,Сводный!I:L,2,FALSE)<0,IF(AX45<0,AX45-1,-1),IF(AX45>0,AX45+1,1))) -> -1
B47: 46 | C47: 40156 | D47: 0.41438657 | E47: =C47 -> 40156 | F47: 0.43415509 | G47: DEO | H47: S | I47: 66.87 | J47: 66.88 | K47: 100 | L47: 2.2832 | M47: отбой от уровня | N47: цель | O47: 2 | P47: Разворотная | S47: =S46+R47+X47 -> 19994.479 | T47: =L47 -> 2.2832 | U47: =I47*ABS(K47) -> 6687 | V47: =J47*ABS(K47) -> 6688 | W47: =IF(H47="s",U47-V47,V47-U47) -> -1 | X47: =W47-T47 -> -3.2832 | Y47: =Y46+W46 -> 127.01 | Z47: =Z46+X46 -> -2.23758 | AA47: =Y47+W47 -> 126.01 | AB47: =Z47+X47 -> -5.52078 | AC47: =IF(G47<>"",VLOOKUP(WEEKDAY(C47,2),Служебный!K$4:L$10,2),"") -> ср | AD47: =IF(G47 <> "",TEXT((HOUR(D47)),0)&"-"&TEXT(HOUR(D47)+1,0),"") -> 9-10 | AE47: =VLOOKUP(G:G,Служебный!B:G,6,) -> NYSE | AF47: =VLOOKUP(G:G,Служебный!B:G,3,FALSE) -> Consumer Goods | AG47: =VLOOKUP(G:G,Служебный!B:G,4,FALSE) -> Beverages - Wineries & Distillers | AH47: =ROUND(((E47+F47)-(C47+D47))*86400,0) -> 1708 | AI47: =IF(FLOOR((AH47/60),15)>400,"Среднесрок",FLOOR((AH47/60),15)) -> 15 | AJ47: =IFERROR(IF(FLOOR((AH47/86400),1)=0,"интрадей",(FLOOR((AH47/86400),1))-(FLOOR((AH47/86400),1))-NETWORKDAYS(E47,C47)),IF(FLOOR((AH47/86400),1)=0,"интрадей",(FLOOR((AH47/86400),1)))) -> интрадей | AK47: =IF(D47<Служебный!P$3,"Раньше открытия",IF(D47>Служебный!P$6,"Позже закрытия",IF(D47<Служебный!P$4,Служебный!N$4,IF((D47>Служебный!P$5),Служебный!N$6,Служебный!N$5)))) -> 9:30 - 11:00 | AL47: =IF(X47>0,X47,0) -> 0 | AM47: =IF(X47<0,X47,0) -> -3.2832 | AN47: =IF(G47<>"",YEAR(C47),"") -> 2009 | AO47: =IF(G47<>"",(IF(TEXT(C47,"MMMM") = "MMMM",TEXT(C47,"ММММ"),TEXT(C47,"MMMM"))),"") -> Декабрь | AP47: =IF(G47<>"",CEILING((C47-DATE(YEAR(C47),1,1)+WEEKDAY(DATE(YEAR(C47),1,1),2))/7,1),"") -> 50 | AQ47: =IF(AV47<>0,S47,0) -> 0 | AR47: =AR46+R47 -> 20000 | AS47: =IFERROR(100*(S47-AR47)/AR47,"Заполните депозит") -> -0.0276039 | AT47: =IFERROR(100*(S47-S46-R47)/(S46+R47),"Заполните депозит") -> -0.016417837 | AU47: =IF(C47<>C46,Z47,0) -> 0 | AV47: =IF(C47<>C48,AB47,0) -> 0 | AW47: =CEILING(I47,5) -> 70 | AX47: =IF(AV47=0,AX46,IF(VLOOKUP(C46,Сводный!I:L,2,FALSE)<0,IF(AX46<0,AX46-1,-1),IF(AX46>0,AX46+1,1))) -> -1
B48: 47 | C48: 40156 | D48: 0.42789352 | E48: =C48 -> 40156 | F48: 0.43466435 | G48: DEO | H48: S | I48: 67.04 | J48: 66.9 | K48: 100 | L48: 2.2832 | M48: отбой от уровня | N48: стоп | O48: 1 | P48: Разворотная | S48: =S47+R48+X48 -> 20006.196 | T48: =L48 -> 2.2832 | U48: =I48*ABS(K48) -> 6704 | V48: =J48*ABS(K48) -> 6690 | W48: =IF(H48="s",U48-V48,V48-U48) -> 14 | X48: =W48-T48 -> 11.7168 | Y48: =Y47+W47 -> 126.01 | Z48: =Z47+X47 -> -5.52078 | AA48: =Y48+W48 -> 140.01 | AB48: =Z48+X48 -> 6.19602 | AC48: =IF(G48<>"",VLOOKUP(WEEKDAY(C48,2),Служебный!K$4:L$10,2),"") -> ср | AD48: =IF(G48 <> "",TEXT((HOUR(D48)),0)&"-"&TEXT(HOUR(D48)+1,0),"") -> 10-11 | AE48: =VLOOKUP(G:G,Служебный!B:G,6,) -> NYSE | AF48: =VLOOKUP(G:G,Служебный!B:G,3,FALSE) -> Consumer Goods | AG48: =VLOOKUP(G:G,Служебный!B:G,4,FALSE) -> Beverages - Wineries & Distillers | AH48: =ROUND(((E48+F48)-(C48+D48))*86400,0) -> 585 | AI48: =IF(FLOOR((AH48/60),15)>400,"Среднесрок",FLOOR((AH48/60),15)) -> 0 | AJ48: =IFERROR(IF(FLOOR((AH48/86400),1)=0,"интрадей",(FLOOR((AH48/86400),1))-(FLOOR((AH48/86400),1))-NETWORKDAYS(E48,C48)),IF(FLOOR((AH48/86400),1)=0,"интрадей",(FLOOR((AH48/86400),1)))) -> интрадей | AK48: =IF(D48<Служебный!P$3,"Раньше открытия",IF(D48>Служебный!P$6,"Позже закрытия",IF(D48<Служебный!P$4,Служебный!N$4,IF((D48>Служебный!P$5),Служебный!N$6,Служебный!N$5)))) -> 9:30 - 11:00 | AL48: =IF(X48>0,X48,0) -> 11.7168 | AM48: =IF(X48<0,X48,0) -> 0 | AN48: =IF(G48<>"",YEAR(C48),"") -> 2009 | AO48: =IF(G48<>"",(IF(TEXT(C48,"MMMM") = "MMMM",TEXT(C48,"ММММ"),TEXT(C48,"MMMM"))),"") -> Декабрь | AP48: =IF(G48<>"",CEILING((C48-DATE(YEAR(C48),1,1)+WEEKDAY(DATE(YEAR(C48),1,1),2))/7,1),"") -> 50 | AQ48: =IF(AV48<>0,S48,0) -> 0 | AR48: =AR47+R48 -> 20000 | AS48: =IFERROR(100*(S48-AR48)/AR48,"Заполните депозит") -> 0.0309801 | AT48: =IFERROR(100*(S48-S47-R48)/(S47+R48),"Заполните депозит") -> 0.058600176 | AU48: =IF(C48<>C47,Z48,0) -> 0 | AV48: =IF(C48<>C49,AB48,0) -> 0 | AW48: =CEILING(I48,5) -> 70 | AX48: =IF(AV48=0,AX47,IF(VLOOKUP(C47,Сводный!I:L,2,FALSE)<0,IF(AX47<0,AX47-1,-1),IF(AX47>0,AX47+1,1))) -> -1
B49: 48 | C49: 40156 | D49: 0.53180556 | E49: =C49 -> 40156 | F49: 0.53416667 | G49: KGC | H49: S | I49: 19.49 | J49: 19.54 | K49: 100 | L49: 2.2832 | M49: отбой от уровня | N49: цель | O49: 1 | P49: Разворотная | S49: =S48+R49+X49 -> 19998.913 | T49: =L49 -> 2.2832 | U49: =I49*ABS(K49) -> 1949 | V49: =J49*ABS(K49) -> 1954 | W49: =IF(H49="s",U49-V49,V49-U49) -> -5 | X49: =W49-T49 -> -7.2832 | Y49: =Y48+W48 -> 140.01 | Z49: =Z48+X48 -> 6.19602 | AA49: =Y49+W49 -> 135.01 | AB49: =Z49+X49 -> -1.08718 | AC49: =IF(G49<>"",VLOOKUP(WEEKDAY(C49,2),Служебный!K$4:L$10,2),"") -> ср | AD49: =IF(G49 <> "",TEXT((HOUR(D49)),0)&"-"&TEXT(HOUR(D49)+1,0),"") -> 12-13 | AE49: =VLOOKUP(G:G,Служебный!B:G,6,) -> NYSE | AF49: =VLOOKUP(G:G,Служебный!B:G,3,FALSE) -> Basic Materials | AG49: =VLOOKUP(G:G,Служебный!B:G,4,FALSE) -> Gold | AH49: =ROUND(((E49+F49)-(C49+D49))*86400,0) -> 204 | AI49: =IF(FLOOR((AH49/60),15)>400,"Среднесрок",FLOOR((AH49/60),15)) -> 0 | AJ49: =IFERROR(IF(FLOOR((AH49/86400),1)=0,"интрадей",(FLOOR((AH49/86400),1))-(FLOOR((AH49/86400),1))-NETWORKDAYS(E49,C49)),IF(FLOOR((AH49/86400),1)=0,"интрадей",(FLOOR((AH49/86400),1)))) -> интрадей | AK49: =IF(D49<Служебный!P$3,"Раньше открытия",IF(D49>Служебный!P$6,"Позже закрытия",IF(D49<Служебный!P$4,Служебный!N$4,IF((D49>Служебный!P$5),Служебный!N$6,Служебный!N$5)))) -> 11:00 - 14:30 | AL49: =IF(X49>0,X49,0) -> 0 | AM49: =IF(X49<0,X49,0) -> -7.2832 | AN49: =IF(G49<>"",YEAR(C49),"") -> 2009 | AO49: =IF(G49<>"",(IF(TEXT(C49,"MMMM") = "MMMM",TEXT(C49,"ММММ"),TEXT(C49,"MMMM"))),"") -> Декабрь | AP49: =IF(G49<>"",CEILING((C49-DATE(YEAR(C49),1,1)+WEEKDAY(DATE(YEAR(C49),1,1),2))/7,1),"") -> 50 | AQ49: =IF(AV49<>0,S49,0) -> 0 | AR49: =AR48+R49 -> 20000 | AS49: =IFERROR(100*(S49-AR49)/AR49,"Заполните депозит") -> -0.0054359 | AT49: =IFERROR(100*(S49-S48-R49)/(S48+R49),"Заполните депозит") -> -0.036404722 | AU49: =IF(C49<>C48,Z49,0) -> 0 | AV49: =IF(C49<>C50,AB49,0) -> 0 | AW49: =CEILING(I49,5) -> 20 | AX49: =IF(AV49=0,AX48,IF(VLOOKUP(C48,Сводный!I:L,2,FALSE)<0,IF(AX48<0,AX48-1,-1),IF(AX48>0,AX48+1,1))) -> -1
B50: 49 | C50: 40156 | D50: 0.53314815 | E50: =C50 -> 40156 | F50: 0.54280093 | G50: BLL | H50: L | I50: 51.03 | J50: 50.96 | K50: 100 | L50: 2.2832 | M50: пробой уровня | N50: стоп | O50: 0 | P50: Черепахи | S50: =S49+R50+X50 -> 19989.63 | T50: =L50 -> 2.2832 | U50: =I50*ABS(K50) -> 5103 | V50: =J50*ABS(K50) -> 5096 | W50: =IF(H50="s",U50-V50,V50-U50) -> -7 | X50: =W50-T50 -> -9.2832 | Y50: =Y49+W49 -> 135.01 | Z50: =Z49+X49 -> -1.08718 | AA50: =Y50+W50 -> 128.01 | AB50: =Z50+X50 -> -10.37038 | AC50: =IF(G50<>"",VLOOKUP(WEEKDAY(C50,2),Служебный!K$4:L$10,2),"") -> ср | AD50: =IF(G50 <> "",TEXT((HOUR(D50)),0)&"-"&TEXT(HOUR(D50)+1,0),"") -> 12-13 | AE50: =VLOOKUP(G:G,Служебный!B:G,6,) -> NYSE | AF50: =VLOOKUP(G:G,Служебный!B:G,3,FALSE) -> Consumer Goods | AG50: =VLOOKUP(G:G,Служебный!B:G,4,FALSE) -> Packaging & Containers | AH50: =ROUND(((E50+F50)-(C50+D50))*86400,0) -> 834 | AI50: =IF(FLOOR((AH50/60),15)>400,"Среднесрок",FLOOR((AH50/60),15)) -> 0 | AJ50: =IFERROR(IF(FLOOR((AH50/86400),1)=0,"интрадей",(FLOOR((AH50/86400),1))-(FLOOR((AH50/86400),1))-NETWORKDAYS(E50,C50)),IF(FLOOR((AH50/86400),1)=0,"интрадей",(FLOOR((AH50/86400),1)))) -> интрадей | AK50: =IF(D50<Служебный!P$3,"Раньше открытия",IF(D50>Служебный!P$6,"Позже закрытия",IF(D50<Служебный!P$4,Служебный!N$4,IF((D50>Служебный!P$5),Служебный!N$6,Служебный!N$5)))) -> 11:00 - 14:30 | AL50: =IF(X50>0,X50,0) -> 0 | AM50: =IF(X50<0,X50,0) -> -9.2832 | AN50: =IF(G50<>"",YEAR(C50),"") -> 2009 | AO50: =IF(G50<>"",(IF(TEXT(C50,"MMMM") = "MMMM",TEXT(C50,"ММММ"),TEXT(C50,"MMMM"))),"") -> Декабрь | AP50: =IF(G50<>"",CEILING((C50-DATE(YEAR(C50),1,1)+WEEKDAY(DATE(YEAR(C50),1,1),2))/7,1),"") -> 50 | AQ50: =IF(AV50<>0,S50,0) -> 0 | AR50: =AR49+R50 -> 20000 | AS50: =IFERROR(100*(S50-AR50)/AR50,"Заполните депозит") -> -0.0518519 | AT50: =IFERROR(100*(S50-S49-R50)/(S49+R50),"Заполните депозит") -> -0.046418523 | AU50: =IF(C50<>C49,Z50,0) -> 0 | AV50: =IF(C50<>C51,AB50,0) -> 0 | AW50: =CEILING(I50,5) -> 55 | AX50: =IF(AV50=0,AX49,IF(VLOOKUP(C49,Сводный!I:L,2,FALSE)<0,IF(AX49<0,AX49-1,-1),IF(AX49>0,AX49+1,1))) -> -1
B51: 50 | C51: 40156 | D51: 0.53314815 | E51: =C51 -> 40156 | F51: 0.56440972 | G51: BLL | H51: L | I51: 51.01 | J51: 50.98 | K51: 100 | L51: 2.2832 | M51: отбой от уровня | N51: стоп | O51: 1 | P51: Разворотная | S51: =S50+R51+X51 -> 19984.346 | T51: =L51 -> 2.2832 | U51: =I51*ABS(K51) -> 5101 | V51: =J51*ABS(K51) -> 5098 | W51: =IF(H51="s",U51-V51,V51-U51) -> -3 | X51: =W51-T51 -> -5.2832 | Y51: =Y50+W50 -> 128.01 | Z51: =Z50+X50 -> -10.37038 | AA51: =Y51+W51 -> 125.01 | AB51: =Z51+X51 -> -15.65358 | AC51: =IF(G51<>"",VLOOKUP(WEEKDAY(C51,2),Служебный!K$4:L$10,2),"") -> ср | AD51: =IF(G51 <> "",TEXT((HOUR(D51)),0)&"-"&TEXT(HOUR(D51)+1,0),"") -> 12-13 | AE51: =VLOOKUP(G:G,Служебный!B:G,6,) -> NYSE | AF51: =VLOOKUP(G:G,Служебный!B:G,3,FALSE) -> Consumer Goods | AG51: =VLOOKUP(G:G,Служебный!B:G,4,FALSE) -> Packaging & Containers | AH51: =ROUND(((E51+F51)-(C51+D51))*86400,0) -> 2701 | AI51: =IF(FLOOR((AH51/60),15)>400,"Среднесрок",FLOOR((AH51/60),15)) -> 45 | AJ51: =IFERROR(IF(FLOOR((AH51/86400),1)=0,"интрадей",(FLOOR((AH51/86400),1))-(FLOOR((AH51/86400),1))-NETWORKDAYS(E51,C51)),IF(FLOOR((AH51/86400),1)=0,"интрадей",(FLOOR((AH51/86400),1)))) -> интрадей | AK51: =IF(D51<Служебный!P$3,"Раньше открытия",IF(D51>Служебный!P$6,"Позже закрытия",IF(D51<Служебный!P$4,Служебный!N$4,IF((D51>Служебный!P$5),Служебный!N$6,Служебный!N$5)))) -> 11:00 - 14:30 | AL51: =IF(X51>0,X51,0) -> 0 | AM51: =IF(X51<0,X51,0) -> -5.2832 | AN51: =IF(G51<>"",YEAR(C51),"") -> 2009 | AO51: =IF(G51<>"",(IF(TEXT(C51,"MMMM") = "MMMM",TEXT(C51,"ММММ"),TEXT(C51,"MMMM"))),"") -> Декабрь | AP51: =IF(G51<>"",CEILING((C51-DATE(YEAR(C51),1,1)+WEEKDAY(DATE(YEAR(C51),1,1),2))/7,1),"") -> 50 | AQ51: =IF(AV51<>0,S51,0) -> 0 | AR51: =AR50+R51 -> 20000 | AS51: =IFERROR(100*(S51-AR51)/AR51,"Заполните депозит") -> -0.0782679 | AT51: =IFERROR(100*(S51-S50-R51)/(S50+R51),"Заполните депозит") -> -0.026429704 | AU51: =IF(C51<>C50,Z51,0) -> 0 | AV51: =IF(C51<>C52,AB51,0) -> 0 | AW51: =CEILING(I51,5) -> 55 | AX51: =IF(AV51=0,AX50,IF(VLOOKUP(C50,Сводный!I:L,2,FALSE)<0,IF(AX50<0,AX50-1,-1),IF(AX50>0,AX50+1,1))) -> -1
B52: 51 | C52: 40156 | D52: 0.53372685 | E52: =C52 -> 40156 | F52: 0.5396412 | G52: CCJ | H52: S | I52: 28.99 | J52: 29.02 | K52: 100 | L52: 2.2832 | M52: отбой от уровня | N52: трейлинг стоп | O52: 0 | P52: Разворотная | S52: =S51+R52+X52 -> 19979.063 | T52: =L52 -> 2.2832 | U52: =I52*ABS(K52) -> 2899 | V52: =J52*ABS(K52) -> 2902 | W52: =IF(H52="s",U52-V52,V52-U52) -> -3 | X52: =W52-T52 -> -5.2832 | Y52: =Y51+W51 -> 125.01 | Z52: =Z51+X51 -> -15.65358 | AA52: =Y52+W52 -> 122.01 | AB52: =Z52+X52 -> -20.93678 | AC52: =IF(G52<>"",VLOOKUP(WEEKDAY(C52,2),Служебный!K$4:L$10,2),"") -> ср | AD52: =IF(G52 <> "",TEXT((HOUR(D52)),0)&"-"&TEXT(HOUR(D52)+1,0),"") -> 12-13 | AE52: =VLOOKUP(G:G,Служебный!B:G,6,) -> NYSE | AF52: =VLOOKUP(G:G,Служебный!B:G,3,FALSE) -> Basic Materials | AG52: =VLOOKUP(G:G,Служебный!B:G,4,FALSE) -> Industrial Metals & Minerals | AH52: =ROUND(((E52+F52)-(C52+D52))*86400,0) -> 511 | AI52: =IF(FLOOR((AH52/60),15)>400,"Среднесрок",FLOOR((AH52/60),15)) -> 0 | AJ52: =IFERROR(IF(FLOOR((AH52/86400),1)=0,"интрадей",(FLOOR((AH52/86400),1))-(FLOOR((AH52/86400),1))-NETWORKDAYS(E52,C52)),IF(FLOOR((AH52/86400),1)=0,"интрадей",(FLOOR((AH52/86400),1)))) -> интрадей | AK52: =IF(D52<Служебный!P$3,"Раньше открытия",IF(D52>Служебный!P$6,"Позже закрытия",IF(D52<Служебный!P$4,Служебный!N$4,IF((D52>Служебный!P$5),Служебный!N$6,Служебный!N$5)))) -> 11:00 - 14:30 | AL52: =IF(X52>0,X52,0) -> 0 | AM52: =IF(X52<0,X52,0) -> -5.2832 | AN52: =IF(G52<>"",YEAR(C52),"") -> 2009 | AO52: =IF(G52<>"",(IF(TEXT(C52,"MMMM") = "MMMM",TEXT(C52,"ММММ"),TEXT(C52,"MMMM"))),"") -> Декабрь | AP52: =IF(G52<>"",CEILING((C52-DATE(YEAR(C52),1,1)+WEEKDAY(DATE(YEAR(C52),1,1),2))/7,1),"") -> 50 | AQ52: =IF(AV52<>0,S52,0) -> 0 | AR52: =AR51+R52 -> 20000 | AS52: =IFERROR(100*(S52-AR52)/AR52,"Заполните депозит") -> -0.1046839 | AT52: =IFERROR(100*(S52-S51-R52)/(S51+R52),"Заполните депозит") -> -0.026436691 | AU52: =IF(C52<>C51,Z52,0) -> 0 | AV52: =IF(C52<>C53,AB52,0) -> 0 | AW52: =CEILING(I52,5) -> 30 | AX52: =IF(AV52=0,AX51,IF(VLOOKUP(C51,Сводный!I:L,2,FALSE)<0,IF(AX51<0,AX51-1,-1),IF(AX51>0,AX51+1,1))) -> -1
B53: 52 | C53: 40156 | D53: 0.53767361 | E53: =C53 -> 40156 | F53: 0.53814815 | G53: PBR | H53: S | I53: 47.98 | J53: 48.02 | K53: 100 | L53: 2.2832 | M53: отбой от уровня | N53: трейлинг стоп | O53: 2 | P53: Разворотная | S53: =S52+R53+X53 -> 19972.78 | T53: =L53 -> 2.2832 | U53: =I53*ABS(K53) -> 4798 | V53: =J53*ABS(K53) -> 4802 | W53: =IF(H53="s",U53-V53,V53-U53) -> -4 | X53: =W53-T53 -> -6.2832 | Y53: =Y52+W52 -> 122.01 | Z53: =Z52+X52 -> -20.93678 | AA53: =Y53+W53 -> 118.01 | AB53: =Z53+X53 -> -27.21998 | AC53: =IF(G53<>"",VLOOKUP(WEEKDAY(C53,2),Служебный!K$4:L$10,2),"") -> ср | AD53: =IF(G53 <> "",TEXT((HOUR(D53)),0)&"-"&TEXT(HOUR(D53)+1,0),"") -> 12-13 | AE53: =VLOOKUP(G:G,Служебный!B:G,6,) -> NYSE | AF53: =VLOOKUP(G:G,Служебный!B:G,3,FALSE) -> Basic Materials | AG53: =VLOOKUP(G:G,Служебный!B:G,4,FALSE) -> Oil & Gas Drilling & Exploration | AH53: =ROUND(((E53+F53)-(C53+D53))*86400,0) -> 41 | AI53: =IF(FLOOR((AH53/60),15)>400,"Среднесрок",FLOOR((AH53/60),15)) -> 0 | AJ53: =IFERROR(IF(FLOOR((AH53/86400),1)=0,"интрадей",(FLOOR((AH53/86400),1))-(FLOOR((AH53/86400),1))-NETWORKDAYS(E53,C53)),IF(FLOOR((AH53/86400),1)=0,"интрадей",(FLOOR((AH53/86400),1)))) -> интрадей | AK53: =IF(D53<Служебный!P$3,"Раньше открытия",IF(D53>Служебный!P$6,"Позже закрытия",IF(D53<Служебный!P$4,Служебный!N$4,IF((D53>Служебный!P$5),Служебный!N$6,Служебный!N$5)))) -> 11:00 - 14:30 | AL53: =IF(X53>0,X53,0) -> 0 | AM53: =IF(X53<0,X53,0) -> -6.2832 | AN53: =IF(G53<>"",YEAR(C53),"") -> 2009 | AO53: =IF(G53<>"",(IF(TEXT(C53,"MMMM") = "MMMM",TEXT(C53,"ММММ"),TEXT(C53,"MMMM"))),"") -> Декабрь | AP53: =IF(G53<>"",CEILING((C53-DATE(YEAR(C53),1,1)+WEEKDAY(DATE(YEAR(C53),1,1),2))/7,1),"") -> 50 | AQ53: =IF(AV53<>0,S53,0) -> 0 | AR53: =AR52+R53 -> 20000 | AS53: =IFERROR(100*(S53-AR53)/AR53,"Заполните депозит") -> -0.1360999 | AT53: =IFERROR(100*(S53-S52-R53)/(S52+R53),"Заполните депозит") -> -0.031448922 | AU53: =IF(C53<>C52,Z53,0) -> 0 | AV53: =IF(C53<>C54,AB53,0) -> 0 | AW53: =CEILING(I53,5) -> 50 | AX53: =IF(AV53=0,AX52,IF(VLOOKUP(C52,Сводный!I:L,2,FALSE)<0,IF(AX52<0,AX52-1,-1),IF(AX52>0,AX52+1,1))) -> -1
B54: 53 | C54: 40156 | D54: 0.54259259 | E54: =C54 -> 40156 | F54: 0.5596412 | G54: STD | H54: L | I54: 16.41 | J54: 16.36 | K54: 100 | L54: 2.2832 | M54: отбой от уровня | N54: стоп | O54: 0 | P54: Разворотная | S54: =S53+R54+X54 -> 19965.497 | T54: =L54 -> 2.2832 | U54: =I54*ABS(K54) -> 1641 | V54: =J54*ABS(K54) -> 1636 | W54: =IF(H54="s",U54-V54,V54-U54) -> -5 | X54: =W54-T54 -> -7.2832 | Y54: =Y53+W53 -> 118.01 | Z54: =Z53+X53 -> -27.21998 | AA54: =Y54+W54 -> 113.01 | AB54: =Z54+X54 -> -34.50318 | AC54: =IF(G54<>"",VLOOKUP(WEEKDAY(C54,2),Служебный!K$4:L$10,2),"") -> ср | AD54: =IF(G54 <> "",TEXT((HOUR(D54)),0)&"-"&TEXT(HOUR(D54)+1,0),"") -> 13-14 | AE54: =VLOOKUP(G:G,Служебный!B:G,6,) -> NYSE | AF54: =VLOOKUP(G:G,Служебный!B:G,3,FALSE) -> Financial | AG54: =VLOOKUP(G:G,Служебный!B:G,4,FALSE) -> Foreign Money Center Banks | AH54: =ROUND(((E54+F54)-(C54+D54))*86400,0) -> 1473 | AI54: =IF(FLOOR((AH54/60),15)>400,"Среднесрок",FLOOR((AH54/60),15)) -> 15 | AJ54: =IFERROR(IF(FLOOR((AH54/86400),1)=0,"интрадей",(FLOOR((AH54/86400),1))-(FLOOR((AH54/86400),1))-NETWORKDAYS(E54,C54)),IF(FLOOR((AH54/86400),1)=0,"интрадей",(FLOOR((AH54/86400),1)))) -> интрадей | AK54: =IF(D54<Служебный!P$3,"Раньше открытия",IF(D54>Служебный!P$6,"Позже закрытия",IF(D54<Служебный!P$4,Служебный!N$4,IF((D54>Служебный!P$5),Служебный!N$6,Служебный!N$5)))) -> 11:00 - 14:30 | AL54: =IF(X54>0,X54,0) -> 0 | AM54: =IF(X54<0,X54,0) -> -7.2832 | AN54: =IF(G54<>"",YEAR(C54),"") -> 2009 | AO54: =IF(G54<>"",(IF(TEXT(C54,"MMMM") = "MMMM",TEXT(C54,"ММММ"),TEXT(C54,"MMMM"))),"") -> Декабрь | AP54: =IF(G54<>"",CEILING((C54-DATE(YEAR(C54),1,1)+WEEKDAY(DATE(YEAR(C54),1,1),2))/7,1),"") -> 50 | AQ54: =IF(AV54<>0,S54,0) -> 0 | AR54: =AR53+R54 -> 20000 | AS54: =IFERROR(100*(S54-AR54)/AR54,"Заполните депозит") -> -0.1725159 | AT54: =IFERROR(100*(S54-S53-R54)/(S53+R54),"Заполните депозит") -> -0.03646563 | AU54: =IF(C54<>C53,Z54,0) -> 0 | AV54: =IF(C54<>C55,AB54,0) -> 0 | AW54: =CEILING(I54,5) -> 20 | AX54: =IF(AV54=0,AX53,IF(VLOOKUP(C53,Сводный!I:L,2,FALSE)<0,IF(AX53<0,AX53-1,-1),IF(AX53>0,AX53+1,1))) -> -1
